BEGIN:VCALENDAR
VERSION:2.0
PRODID:-//Saints Row Craft Collective - ECPv6.10.3//NONSGML v1.0//EN
CALSCALE:GREGORIAN
METHOD:PUBLISH
X-ORIGINAL-URL:https://www.saintsrowbeer.com
X-WR-CALDESC:Events for Saints Row Craft Collective
REFRESH-INTERVAL;VALUE=DURATION:PT1H
X-Robots-Tag:noindex
X-PUBLISHED-TTL:PT1H
BEGIN:VTIMEZONE
TZID:America/New_York
BEGIN:DAYLIGHT
TZOFFSETFROM:-0500
TZOFFSETTO:-0400
TZNAME:EDT
DTSTART:20250309T070000
END:DAYLIGHT
BEGIN:STANDARD
TZOFFSETFROM:-0400
TZOFFSETTO:-0500
TZNAME:EST
DTSTART:20251102T060000
END:STANDARD
END:VTIMEZONE
BEGIN:VEVENT
DTSTART;VALUE=DATE:20251101
DTEND;VALUE=DATE:20251102
DTSTAMP:20260420T061224
CREATED:20250325T133121Z
LAST-MODIFIED:20250603T142529Z
UID:711-1761955200-1762041599@www.saintsrowbeer.com
SUMMARY:El Jefe Woodfired Pizza
DESCRIPTION:
URL:https://www.saintsrowbeer.com/event/el-jefe-woodfired-pizza-32/
CATEGORIES:Food Trucks
END:VEVENT
BEGIN:VEVENT
DTSTART;VALUE=DATE:20251104
DTEND;VALUE=DATE:20251105
DTSTAMP:20260420T061224
CREATED:20250325T133121Z
LAST-MODIFIED:20250603T142529Z
UID:712-1762214400-1762300799@www.saintsrowbeer.com
SUMMARY:Napa Mexican & Korean Grill Food Truck
DESCRIPTION:
URL:https://www.saintsrowbeer.com/event/napa-mexican-korean-grill-food-truck-33/
CATEGORIES:Food Trucks
END:VEVENT
BEGIN:VEVENT
DTSTART;VALUE=DATE:20251104
DTEND;VALUE=DATE:20251105
DTSTAMP:20260420T061224
CREATED:20250325T133300Z
LAST-MODIFIED:20250909T161227Z
UID:1024-1762214400-1762300799@www.saintsrowbeer.com
SUMMARY:Capital Trivia 6-730pm
DESCRIPTION:
URL:https://www.saintsrowbeer.com/event/capital-trivia-6-730pm-33/
CATEGORIES:Events
END:VEVENT
BEGIN:VEVENT
DTSTART;VALUE=DATE:20251106
DTEND;VALUE=DATE:20251107
DTSTAMP:20260420T061224
CREATED:20250909T161227Z
LAST-MODIFIED:20250909T161227Z
UID:1958-1762387200-1762473599@www.saintsrowbeer.com
SUMMARY:Ladies' Night Take 2!
DESCRIPTION:
URL:https://www.saintsrowbeer.com/event/ladies-night-take-2/
END:VEVENT
BEGIN:VEVENT
DTSTART;VALUE=DATE:20251107
DTEND;VALUE=DATE:20251108
DTSTAMP:20260420T061224
CREATED:20250325T133300Z
LAST-MODIFIED:20250909T161227Z
UID:1026-1762473600-1762559999@www.saintsrowbeer.com
SUMMARY:Taproom Bingo 630-830
DESCRIPTION:
URL:https://www.saintsrowbeer.com/event/taproom-bingo-630-830-32/
CATEGORIES:Events
END:VEVENT
BEGIN:VEVENT
DTSTART;VALUE=DATE:20251107
DTEND;VALUE=DATE:20251108
DTSTAMP:20260420T061224
CREATED:20250325T133300Z
LAST-MODIFIED:20250325T133300Z
UID:1025-1762473600-1762559999@www.saintsrowbeer.com
SUMMARY:MCRRC Run Club
DESCRIPTION:
URL:https://www.saintsrowbeer.com/event/mcrrc-run-club-33/
CATEGORIES:Events
END:VEVENT
BEGIN:VEVENT
DTSTART;VALUE=DATE:20251108
DTEND;VALUE=DATE:20251109
DTSTAMP:20260420T061224
CREATED:20250325T133121Z
LAST-MODIFIED:20250603T142529Z
UID:713-1762560000-1762646399@www.saintsrowbeer.com
SUMMARY:El Jefe Woodfired Pizza
DESCRIPTION:
URL:https://www.saintsrowbeer.com/event/el-jefe-woodfired-pizza-33/
CATEGORIES:Food Trucks
END:VEVENT
BEGIN:VEVENT
DTSTART;TZID=America/New_York:20251108T190000
DTEND;TZID=America/New_York:20251108T203000
DTSTAMP:20260420T061224
CREATED:20251022T170053Z
LAST-MODIFIED:20251022T170113Z
UID:2002-1762628400-1762633800@www.saintsrowbeer.com
SUMMARY:Encore Comedy Show
DESCRIPTION:
URL:https://www.saintsrowbeer.com/event/encore-comedy-show-3/
CATEGORIES:Events
END:VEVENT
BEGIN:VEVENT
DTSTART;VALUE=DATE:20251111
DTEND;VALUE=DATE:20251112
DTSTAMP:20260420T061224
CREATED:20250325T133121Z
LAST-MODIFIED:20250603T142529Z
UID:714-1762819200-1762905599@www.saintsrowbeer.com
SUMMARY:Napa Mexican & Korean Grill Food Truck
DESCRIPTION:
URL:https://www.saintsrowbeer.com/event/napa-mexican-korean-grill-food-truck-34/
CATEGORIES:Food Trucks
END:VEVENT
BEGIN:VEVENT
DTSTART;VALUE=DATE:20251111
DTEND;VALUE=DATE:20251112
DTSTAMP:20260420T061224
CREATED:20250325T133300Z
LAST-MODIFIED:20250909T161227Z
UID:1027-1762819200-1762905599@www.saintsrowbeer.com
SUMMARY:Capital Trivia 6-730pm
DESCRIPTION:
URL:https://www.saintsrowbeer.com/event/capital-trivia-6-730pm-34/
CATEGORIES:Events
END:VEVENT
BEGIN:VEVENT
DTSTART;VALUE=DATE:20251114
DTEND;VALUE=DATE:20251115
DTSTAMP:20260420T061224
CREATED:20250325T133122Z
LAST-MODIFIED:20250603T142530Z
UID:715-1763078400-1763164799@www.saintsrowbeer.com
SUMMARY:Aj's Fryer Food Truck
DESCRIPTION:
URL:https://www.saintsrowbeer.com/event/ajs-fryer-food-truck-16/
CATEGORIES:Food Trucks
END:VEVENT
BEGIN:VEVENT
DTSTART;VALUE=DATE:20251114
DTEND;VALUE=DATE:20251115
DTSTAMP:20260420T061224
CREATED:20250325T133300Z
LAST-MODIFIED:20250909T161227Z
UID:1029-1763078400-1763164799@www.saintsrowbeer.com
SUMMARY:Taproom Bingo 630-830
DESCRIPTION:
URL:https://www.saintsrowbeer.com/event/taproom-bingo-630-830-33/
CATEGORIES:Events
END:VEVENT
BEGIN:VEVENT
DTSTART;VALUE=DATE:20251114
DTEND;VALUE=DATE:20251115
DTSTAMP:20260420T061224
CREATED:20250325T133300Z
LAST-MODIFIED:20250325T133300Z
UID:1028-1763078400-1763164799@www.saintsrowbeer.com
SUMMARY:MCRRC Run Club
DESCRIPTION:
URL:https://www.saintsrowbeer.com/event/mcrrc-run-club-34/
CATEGORIES:Events
END:VEVENT
BEGIN:VEVENT
DTSTART;VALUE=DATE:20251115
DTEND;VALUE=DATE:20251116
DTSTAMP:20260420T061224
CREATED:20250325T133122Z
LAST-MODIFIED:20250603T142529Z
UID:716-1763164800-1763251199@www.saintsrowbeer.com
SUMMARY:El Jefe Woodfired Pizza
DESCRIPTION:
URL:https://www.saintsrowbeer.com/event/el-jefe-woodfired-pizza-34/
CATEGORIES:Food Trucks
END:VEVENT
BEGIN:VEVENT
DTSTART;VALUE=DATE:20251115
DTEND;VALUE=DATE:20251116
DTSTAMP:20260420T061224
CREATED:20250909T161227Z
LAST-MODIFIED:20250909T161227Z
UID:1959-1763164800-1763251199@www.saintsrowbeer.com
SUMMARY:District Karaoke 7-10
DESCRIPTION:
URL:https://www.saintsrowbeer.com/event/district-karaoke-7-10-3/
END:VEVENT
BEGIN:VEVENT
DTSTART;VALUE=DATE:20251118
DTEND;VALUE=DATE:20251119
DTSTAMP:20260420T061224
CREATED:20250325T133122Z
LAST-MODIFIED:20250603T142530Z
UID:717-1763424000-1763510399@www.saintsrowbeer.com
SUMMARY:Napa Mexican & Korean Grill Food Truck
DESCRIPTION:
URL:https://www.saintsrowbeer.com/event/napa-mexican-korean-grill-food-truck-35/
CATEGORIES:Food Trucks
END:VEVENT
BEGIN:VEVENT
DTSTART;VALUE=DATE:20251118
DTEND;VALUE=DATE:20251119
DTSTAMP:20260420T061224
CREATED:20250325T133300Z
LAST-MODIFIED:20250909T161227Z
UID:1030-1763424000-1763510399@www.saintsrowbeer.com
SUMMARY:Capital Trivia 6-730pm
DESCRIPTION:
URL:https://www.saintsrowbeer.com/event/capital-trivia-6-730pm-35/
CATEGORIES:Events
END:VEVENT
BEGIN:VEVENT
DTSTART;VALUE=DATE:20251120
DTEND;VALUE=DATE:20251121
DTSTAMP:20260420T061224
CREATED:20251119T161650Z
LAST-MODIFIED:20251119T161650Z
UID:2172-1763596800-1763683199@www.saintsrowbeer.com
SUMMARY:MC Raptor Food Truck
DESCRIPTION:
URL:https://www.saintsrowbeer.com/event/mc-raptor-food-truck/
CATEGORIES:Food Trucks
END:VEVENT
BEGIN:VEVENT
DTSTART;VALUE=DATE:20251121
DTEND;VALUE=DATE:20251122
DTSTAMP:20260420T061224
CREATED:20250325T133301Z
LAST-MODIFIED:20250325T133301Z
UID:1031-1763683200-1763769599@www.saintsrowbeer.com
SUMMARY:MCRRC Run Club
DESCRIPTION:
URL:https://www.saintsrowbeer.com/event/mcrrc-run-club-35/
CATEGORIES:Events
END:VEVENT
BEGIN:VEVENT
DTSTART;VALUE=DATE:20251121
DTEND;VALUE=DATE:20251122
DTSTAMP:20260420T061224
CREATED:20250325T133301Z
LAST-MODIFIED:20251119T161613Z
UID:1032-1763683200-1763769599@www.saintsrowbeer.com
SUMMARY:Taproom Bingo 630-830
DESCRIPTION:
URL:https://www.saintsrowbeer.com/event/taproom-bingo-630-830-34/
CATEGORIES:Events
END:VEVENT
BEGIN:VEVENT
DTSTART;VALUE=DATE:20251121
DTEND;VALUE=DATE:20251122
DTSTAMP:20260420T061224
CREATED:20251119T161650Z
LAST-MODIFIED:20251119T161650Z
UID:2171-1763683200-1763769599@www.saintsrowbeer.com
SUMMARY:Cousin's Maine Lobster Food Truck
DESCRIPTION:
URL:https://www.saintsrowbeer.com/event/cousins-maine-lobster-food-truck/
CATEGORIES:Food Trucks
END:VEVENT
BEGIN:VEVENT
DTSTART;VALUE=DATE:20251122
DTEND;VALUE=DATE:20251123
DTSTAMP:20260420T061224
CREATED:20250325T133122Z
LAST-MODIFIED:20251119T161650Z
UID:718-1763769600-1763855999@www.saintsrowbeer.com
SUMMARY:El Jefe Woodfired Pizza
DESCRIPTION:
URL:https://www.saintsrowbeer.com/event/el-jefe-woodfired-pizza-35/
CATEGORIES:Food Trucks
END:VEVENT
BEGIN:VEVENT
DTSTART;VALUE=DATE:20251122
DTEND;VALUE=DATE:20251123
DTSTAMP:20260420T061224
CREATED:20251119T161613Z
LAST-MODIFIED:20251119T161613Z
UID:2009-1763769600-1763855999@www.saintsrowbeer.com
SUMMARY:Friendsgiving Market?
DESCRIPTION:
URL:https://www.saintsrowbeer.com/event/friendsgiving-market/
CATEGORIES:Events
END:VEVENT
BEGIN:VEVENT
DTSTART;VALUE=DATE:20251123
DTEND;VALUE=DATE:20251124
DTSTAMP:20260420T061224
CREATED:20251119T161613Z
LAST-MODIFIED:20251119T161613Z
UID:2007-1763856000-1763942399@www.saintsrowbeer.com
SUMMARY:Montgomery Spurs 1130am
DESCRIPTION:
URL:https://www.saintsrowbeer.com/event/montgomery-spurs-1130am/
CATEGORIES:Events
END:VEVENT
BEGIN:VEVENT
DTSTART;VALUE=DATE:20251123
DTEND;VALUE=DATE:20251124
DTSTAMP:20260420T061224
CREATED:20251119T161613Z
LAST-MODIFIED:20251119T161613Z
UID:2008-1763856000-1763942399@www.saintsrowbeer.com
SUMMARY:Friendsgiving Beer Dinner
DESCRIPTION:
URL:https://www.saintsrowbeer.com/event/friendsgiving-beer-dinner/
CATEGORIES:Events
END:VEVENT
BEGIN:VEVENT
DTSTART;VALUE=DATE:20251125
DTEND;VALUE=DATE:20251126
DTSTAMP:20260420T061224
CREATED:20250325T133122Z
LAST-MODIFIED:20251119T161650Z
UID:719-1764028800-1764115199@www.saintsrowbeer.com
SUMMARY:Napa Mexican & Korean Grill Food Truck
DESCRIPTION:
URL:https://www.saintsrowbeer.com/event/napa-mexican-korean-grill-food-truck-36/
CATEGORIES:Food Trucks
END:VEVENT
BEGIN:VEVENT
DTSTART;VALUE=DATE:20251125
DTEND;VALUE=DATE:20251126
DTSTAMP:20260420T061224
CREATED:20250325T133301Z
LAST-MODIFIED:20251119T161614Z
UID:1033-1764028800-1764115199@www.saintsrowbeer.com
SUMMARY:Capital Trivia 6-730pm
DESCRIPTION:
URL:https://www.saintsrowbeer.com/event/capital-trivia-6-730pm-36/
CATEGORIES:Events
END:VEVENT
BEGIN:VEVENT
DTSTART;VALUE=DATE:20251126
DTEND;VALUE=DATE:20251127
DTSTAMP:20260420T061224
CREATED:20250909T161227Z
LAST-MODIFIED:20251119T161614Z
UID:1960-1764115200-1764201599@www.saintsrowbeer.com
SUMMARY:Pad Thai Class
DESCRIPTION:
URL:https://www.saintsrowbeer.com/event/pad-thai-class/
CATEGORIES:Events
END:VEVENT
BEGIN:VEVENT
DTSTART;VALUE=DATE:20251126
DTEND;VALUE=DATE:20251127
DTSTAMP:20260420T061224
CREATED:20251119T161614Z
LAST-MODIFIED:20251119T161614Z
UID:2010-1764115200-1764201599@www.saintsrowbeer.com
SUMMARY:Montgomery Spurs 3pm
DESCRIPTION:
URL:https://www.saintsrowbeer.com/event/montgomery-spurs-3pm-5/
CATEGORIES:Events
END:VEVENT
BEGIN:VEVENT
DTSTART;VALUE=DATE:20251128
DTEND;VALUE=DATE:20251129
DTSTAMP:20260420T061224
CREATED:20250325T133122Z
LAST-MODIFIED:20251119T161650Z
UID:720-1764288000-1764374399@www.saintsrowbeer.com
SUMMARY:Aj's Fryer Food Truck
DESCRIPTION:
URL:https://www.saintsrowbeer.com/event/ajs-fryer-food-truck-17/
CATEGORIES:Food Trucks
END:VEVENT
END:VCALENDAR