BEGIN:VCALENDAR
VERSION:2.0
PRODID:-//Saints Row Craft Collective - ECPv6.10.3//NONSGML v1.0//EN
CALSCALE:GREGORIAN
METHOD:PUBLISH
X-WR-CALNAME:Saints Row Craft Collective
X-ORIGINAL-URL:https://www.saintsrowbeer.com
X-WR-CALDESC:Events for Saints Row Craft Collective
REFRESH-INTERVAL;VALUE=DURATION:PT1H
X-Robots-Tag:noindex
X-PUBLISHED-TTL:PT1H
BEGIN:VTIMEZONE
TZID:America/New_York
BEGIN:DAYLIGHT
TZOFFSETFROM:-0500
TZOFFSETTO:-0400
TZNAME:EDT
DTSTART:20250309T070000
END:DAYLIGHT
BEGIN:STANDARD
TZOFFSETFROM:-0400
TZOFFSETTO:-0500
TZNAME:EST
DTSTART:20251102T060000
END:STANDARD
END:VTIMEZONE
BEGIN:VEVENT
DTSTART;VALUE=DATE:20251003
DTEND;VALUE=DATE:20251004
DTSTAMP:20260420T075228
CREATED:20250325T133121Z
LAST-MODIFIED:20250603T142529Z
UID:698-1759449600-1759535999@www.saintsrowbeer.com
SUMMARY:Aj's Fryer Food Truck
DESCRIPTION:
URL:https://www.saintsrowbeer.com/event/ajs-fryer-food-truck-13/
CATEGORIES:Food Trucks
END:VEVENT
BEGIN:VEVENT
DTSTART;VALUE=DATE:20251003
DTEND;VALUE=DATE:20251004
DTSTAMP:20260420T075228
CREATED:20250325T133259Z
LAST-MODIFIED:20250909T161225Z
UID:1007-1759449600-1759535999@www.saintsrowbeer.com
SUMMARY:Taproom Bingo 630-830
DESCRIPTION:
URL:https://www.saintsrowbeer.com/event/taproom-bingo-630-830-27/
CATEGORIES:Events
END:VEVENT
BEGIN:VEVENT
DTSTART;VALUE=DATE:20251003
DTEND;VALUE=DATE:20251004
DTSTAMP:20260420T075228
CREATED:20250325T133259Z
LAST-MODIFIED:20250325T133259Z
UID:1006-1759449600-1759535999@www.saintsrowbeer.com
SUMMARY:MCRRC Run Club
DESCRIPTION:
URL:https://www.saintsrowbeer.com/event/mcrrc-run-club-28/
CATEGORIES:Events
END:VEVENT
BEGIN:VEVENT
DTSTART;VALUE=DATE:20251003
DTEND;VALUE=DATE:20251004
DTSTAMP:20260420T075228
CREATED:20250909T161307Z
LAST-MODIFIED:20250909T161307Z
UID:1994-1759449600-1759535999@www.saintsrowbeer.com
SUMMARY:Green Meadows Concert
DESCRIPTION:5-9:30
URL:https://www.saintsrowbeer.com/event/green-meadows-concert/
CATEGORIES:Events
END:VEVENT
BEGIN:VEVENT
DTSTART;VALUE=DATE:20251003
DTEND;VALUE=DATE:20251006
DTSTAMP:20260420T075228
CREATED:20250325T133259Z
LAST-MODIFIED:20250909T161225Z
UID:1005-1759449600-1759708799@www.saintsrowbeer.com
SUMMARY:Saintoberfest
DESCRIPTION:
URL:https://www.saintsrowbeer.com/event/saintoberfest/
CATEGORIES:Events
END:VEVENT
BEGIN:VEVENT
DTSTART;VALUE=DATE:20251004
DTEND;VALUE=DATE:20251005
DTSTAMP:20260420T075228
CREATED:20250325T133121Z
LAST-MODIFIED:20250603T142529Z
UID:699-1759536000-1759622399@www.saintsrowbeer.com
SUMMARY:El Jefe Woodfired Pizza
DESCRIPTION:
URL:https://www.saintsrowbeer.com/event/el-jefe-woodfired-pizza-28/
CATEGORIES:Food Trucks
END:VEVENT
BEGIN:VEVENT
DTSTART;VALUE=DATE:20251004
DTEND;VALUE=DATE:20251005
DTSTAMP:20260420T075228
CREATED:20250909T161225Z
LAST-MODIFIED:20250909T161225Z
UID:1947-1759536000-1759622399@www.saintsrowbeer.com
SUMMARY:Montgomery Spurs @730am
DESCRIPTION:
URL:https://www.saintsrowbeer.com/event/montgomery-spurs-730am/
END:VEVENT
BEGIN:VEVENT
DTSTART;VALUE=DATE:20251004
DTEND;VALUE=DATE:20251005
DTSTAMP:20260420T075228
CREATED:20250909T161307Z
LAST-MODIFIED:20250909T161307Z
UID:1996-1759536000-1759622399@www.saintsrowbeer.com
SUMMARY:Germantown Octoberfest
DESCRIPTION:
URL:https://www.saintsrowbeer.com/event/germantown-octoberfest/
CATEGORIES:Events
END:VEVENT
BEGIN:VEVENT
DTSTART;VALUE=DATE:20251004
DTEND;VALUE=DATE:20251005
DTSTAMP:20260420T075228
CREATED:20250909T161307Z
LAST-MODIFIED:20250909T161307Z
UID:1995-1759536000-1759622399@www.saintsrowbeer.com
SUMMARY:Woodworkers Event
DESCRIPTION:info@woodworkersclub.com\nRenee Moloznik from Woodcraft of Rockville.\nOktoberfest\, Saturday\, October 4 from 10 am – 5 pm.  \nneed to arrive until around 11:30 am and you can close up around 4 or 5 pn.
URL:https://www.saintsrowbeer.com/event/woodworkers-event/
CATEGORIES:Events
END:VEVENT
BEGIN:VEVENT
DTSTART;VALUE=DATE:20251005
DTEND;VALUE=DATE:20251006
DTSTAMP:20260420T075228
CREATED:20250909T161307Z
LAST-MODIFIED:20250909T161307Z
UID:1997-1759622400-1759708799@www.saintsrowbeer.com
SUMMARY:Fall for Local Fest 11-5
DESCRIPTION:The Square \n36 Maryland Ave\, Rockville\, MD
URL:https://www.saintsrowbeer.com/event/fall-for-local-fest-11-5/
CATEGORIES:Events
END:VEVENT
BEGIN:VEVENT
DTSTART;VALUE=DATE:20251007
DTEND;VALUE=DATE:20251008
DTSTAMP:20260420T075228
CREATED:20250325T133121Z
LAST-MODIFIED:20250603T142529Z
UID:700-1759795200-1759881599@www.saintsrowbeer.com
SUMMARY:Napa Mexican & Korean Grill Food Truck
DESCRIPTION:
URL:https://www.saintsrowbeer.com/event/napa-mexican-korean-grill-food-truck-29/
CATEGORIES:Food Trucks
END:VEVENT
BEGIN:VEVENT
DTSTART;VALUE=DATE:20251007
DTEND;VALUE=DATE:20251008
DTSTAMP:20260420T075228
CREATED:20250325T133259Z
LAST-MODIFIED:20250909T161225Z
UID:1008-1759795200-1759881599@www.saintsrowbeer.com
SUMMARY:Capital Trivia 6-730pm
DESCRIPTION:
URL:https://www.saintsrowbeer.com/event/capital-trivia-6-730pm-29/
CATEGORIES:Events
END:VEVENT
BEGIN:VEVENT
DTSTART;VALUE=DATE:20251009
DTEND;VALUE=DATE:20251010
DTSTAMP:20260420T075228
CREATED:20250325T133259Z
LAST-MODIFIED:20250909T161226Z
UID:1011-1759968000-1760054399@www.saintsrowbeer.com
SUMMARY:Bill Jones Acoustic (6-8)
DESCRIPTION:
URL:https://www.saintsrowbeer.com/event/bill-jones-acoustic-6-8-2/
CATEGORIES:Events
END:VEVENT
BEGIN:VEVENT
DTSTART;VALUE=DATE:20251010
DTEND;VALUE=DATE:20251011
DTSTAMP:20260420T075228
CREATED:20250325T133121Z
LAST-MODIFIED:20250603T142529Z
UID:701-1760054400-1760140799@www.saintsrowbeer.com
SUMMARY:Origins BBQ
DESCRIPTION:
URL:https://www.saintsrowbeer.com/event/origins-bbq-4/
CATEGORIES:Food Trucks
END:VEVENT
BEGIN:VEVENT
DTSTART;VALUE=DATE:20251010
DTEND;VALUE=DATE:20251011
DTSTAMP:20260420T075228
CREATED:20250325T133259Z
LAST-MODIFIED:20250909T161225Z
UID:1010-1760054400-1760140799@www.saintsrowbeer.com
SUMMARY:Taproom Bingo 630-830
DESCRIPTION:
URL:https://www.saintsrowbeer.com/event/taproom-bingo-630-830-28/
CATEGORIES:Events
END:VEVENT
BEGIN:VEVENT
DTSTART;VALUE=DATE:20251010
DTEND;VALUE=DATE:20251011
DTSTAMP:20260420T075228
CREATED:20250325T133259Z
LAST-MODIFIED:20250325T133259Z
UID:1009-1760054400-1760140799@www.saintsrowbeer.com
SUMMARY:MCRRC Run Club
DESCRIPTION:
URL:https://www.saintsrowbeer.com/event/mcrrc-run-club-29/
CATEGORIES:Events
END:VEVENT
BEGIN:VEVENT
DTSTART;VALUE=DATE:20251011
DTEND;VALUE=DATE:20251012
DTSTAMP:20260420T075228
CREATED:20250325T133121Z
LAST-MODIFIED:20250603T142529Z
UID:702-1760140800-1760227199@www.saintsrowbeer.com
SUMMARY:El Jefe Woodfired Pizza
DESCRIPTION:
URL:https://www.saintsrowbeer.com/event/el-jefe-woodfired-pizza-29/
CATEGORIES:Food Trucks
END:VEVENT
BEGIN:VEVENT
DTSTART;VALUE=DATE:20251011
DTEND;VALUE=DATE:20251012
DTSTAMP:20260420T075228
CREATED:20250709T122726Z
LAST-MODIFIED:20250909T161226Z
UID:1867-1760140800-1760227199@www.saintsrowbeer.com
SUMMARY:L'amour en Route
DESCRIPTION:
URL:https://www.saintsrowbeer.com/event/lamour-en-route/
END:VEVENT
BEGIN:VEVENT
DTSTART;VALUE=DATE:20251011
DTEND;VALUE=DATE:20251012
DTSTAMP:20260420T075228
CREATED:20250909T161307Z
LAST-MODIFIED:20250909T161307Z
UID:1999-1760140800-1760227199@www.saintsrowbeer.com
SUMMARY:Soleado Farm Market
DESCRIPTION:
URL:https://www.saintsrowbeer.com/event/soleado-farm-market/
CATEGORIES:Events
END:VEVENT
BEGIN:VEVENT
DTSTART;VALUE=DATE:20251012
DTEND;VALUE=DATE:20251013
DTSTAMP:20260420T075228
CREATED:20250909T161307Z
LAST-MODIFIED:20250909T161307Z
UID:1998-1760227200-1760313599@www.saintsrowbeer.com
SUMMARY:Gburg Oktoberfest
DESCRIPTION:
URL:https://www.saintsrowbeer.com/event/gburg-oktoberfest/
CATEGORIES:Events
END:VEVENT
BEGIN:VEVENT
DTSTART;VALUE=DATE:20251014
DTEND;VALUE=DATE:20251015
DTSTAMP:20260420T075228
CREATED:20250325T133121Z
LAST-MODIFIED:20250603T142529Z
UID:703-1760400000-1760486399@www.saintsrowbeer.com
SUMMARY:Napa Mexican & Korean Grill Food Truck
DESCRIPTION:
URL:https://www.saintsrowbeer.com/event/napa-mexican-korean-grill-food-truck-30/
CATEGORIES:Food Trucks
END:VEVENT
BEGIN:VEVENT
DTSTART;VALUE=DATE:20251014
DTEND;VALUE=DATE:20251015
DTSTAMP:20260420T075228
CREATED:20250325T133259Z
LAST-MODIFIED:20250909T161226Z
UID:1012-1760400000-1760486399@www.saintsrowbeer.com
SUMMARY:Capital Trivia 6-730pm
DESCRIPTION:
URL:https://www.saintsrowbeer.com/event/capital-trivia-6-730pm-30/
CATEGORIES:Events
END:VEVENT
BEGIN:VEVENT
DTSTART;VALUE=DATE:20251017
DTEND;VALUE=DATE:20251018
DTSTAMP:20260420T075228
CREATED:20250325T133121Z
LAST-MODIFIED:20250603T142529Z
UID:705-1760659200-1760745599@www.saintsrowbeer.com
SUMMARY:Aj's Fryer Food Truck
DESCRIPTION:
URL:https://www.saintsrowbeer.com/event/ajs-fryer-food-truck-14/
CATEGORIES:Food Trucks
END:VEVENT
BEGIN:VEVENT
DTSTART;VALUE=DATE:20251017
DTEND;VALUE=DATE:20251018
DTSTAMP:20260420T075228
CREATED:20250325T133259Z
LAST-MODIFIED:20250909T161226Z
UID:1013-1760659200-1760745599@www.saintsrowbeer.com
SUMMARY:Taproom Bingo 630-830
DESCRIPTION:
URL:https://www.saintsrowbeer.com/event/taproom-bingo-630-830-29/
CATEGORIES:Events
END:VEVENT
BEGIN:VEVENT
DTSTART;VALUE=DATE:20251017
DTEND;VALUE=DATE:20251018
DTSTAMP:20260420T075228
CREATED:20250325T133259Z
LAST-MODIFIED:20250325T133259Z
UID:1014-1760659200-1760745599@www.saintsrowbeer.com
SUMMARY:MCRRC Run Club
DESCRIPTION:
URL:https://www.saintsrowbeer.com/event/mcrrc-run-club-30/
CATEGORIES:Events
END:VEVENT
BEGIN:VEVENT
DTSTART;VALUE=DATE:20251017
DTEND;VALUE=DATE:20251019
DTSTAMP:20260420T075228
CREATED:20250909T161307Z
LAST-MODIFIED:20250909T161307Z
UID:2000-1760659200-1760831999@www.saintsrowbeer.com
SUMMARY:Berger-Martin Wedding
DESCRIPTION:
URL:https://www.saintsrowbeer.com/event/berger-martin-wedding/
CATEGORIES:Events
END:VEVENT
BEGIN:VEVENT
DTSTART;VALUE=DATE:20251018
DTEND;VALUE=DATE:20251019
DTSTAMP:20260420T075228
CREATED:20250325T133121Z
LAST-MODIFIED:20250603T142529Z
UID:704-1760745600-1760831999@www.saintsrowbeer.com
SUMMARY:El Jefe Woodfired Pizza
DESCRIPTION:
URL:https://www.saintsrowbeer.com/event/el-jefe-woodfired-pizza-30/
CATEGORIES:Food Trucks
END:VEVENT
BEGIN:VEVENT
DTSTART;VALUE=DATE:20251018
DTEND;VALUE=DATE:20251019
DTSTAMP:20260420T075228
CREATED:20250909T161226Z
LAST-MODIFIED:20250909T161226Z
UID:1949-1760745600-1760831999@www.saintsrowbeer.com
SUMMARY:Encore Comedy Show 7-10
DESCRIPTION:
URL:https://www.saintsrowbeer.com/event/encore-comedy-show-7-10-2/
END:VEVENT
BEGIN:VEVENT
DTSTART;VALUE=DATE:20251019
DTEND;VALUE=DATE:20251020
DTSTAMP:20260420T075228
CREATED:20250909T161226Z
LAST-MODIFIED:20250909T161226Z
UID:1950-1760832000-1760918399@www.saintsrowbeer.com
SUMMARY:Montgomery Spurs @9am
DESCRIPTION:
URL:https://www.saintsrowbeer.com/event/montgomery-spurs-9am/
END:VEVENT
BEGIN:VEVENT
DTSTART;VALUE=DATE:20251020
DTEND;VALUE=DATE:20251021
DTSTAMP:20260420T075228
CREATED:20250909T161226Z
LAST-MODIFIED:20250909T161226Z
UID:1951-1760918400-1761004799@www.saintsrowbeer.com
SUMMARY:Non-Profit Trivia Night 7-9
DESCRIPTION:mocomdyl@gmail.com\nSetting up 6-6:15 \nCheck in at 6:30\nLast call at 8:30
URL:https://www.saintsrowbeer.com/event/non-profit-trivia-night-7-9/
END:VEVENT
END:VCALENDAR