BEGIN:VCALENDAR
VERSION:2.0
PRODID:-//Saints Row Craft Collective - ECPv6.10.3//NONSGML v1.0//EN
CALSCALE:GREGORIAN
METHOD:PUBLISH
X-ORIGINAL-URL:https://www.saintsrowbeer.com
X-WR-CALDESC:Events for Saints Row Craft Collective
REFRESH-INTERVAL;VALUE=DURATION:PT1H
X-Robots-Tag:noindex
X-PUBLISHED-TTL:PT1H
BEGIN:VTIMEZONE
TZID:America/New_York
BEGIN:DAYLIGHT
TZOFFSETFROM:-0500
TZOFFSETTO:-0400
TZNAME:EDT
DTSTART:20250309T070000
END:DAYLIGHT
BEGIN:STANDARD
TZOFFSETFROM:-0400
TZOFFSETTO:-0500
TZNAME:EST
DTSTART:20251102T060000
END:STANDARD
END:VTIMEZONE
BEGIN:VEVENT
DTSTART;VALUE=DATE:20250902
DTEND;VALUE=DATE:20250903
DTSTAMP:20260420T094925
CREATED:20250325T133120Z
LAST-MODIFIED:20250603T142528Z
UID:685-1756771200-1756857599@www.saintsrowbeer.com
SUMMARY:Napa Mexican & Korean Grill Food Truck
DESCRIPTION:
URL:https://www.saintsrowbeer.com/event/napa-mexican-korean-grill-food-truck-24/
CATEGORIES:Food Trucks
END:VEVENT
BEGIN:VEVENT
DTSTART;VALUE=DATE:20250902
DTEND;VALUE=DATE:20250903
DTSTAMP:20260420T094925
CREATED:20250325T133258Z
LAST-MODIFIED:20250709T122725Z
UID:990-1756771200-1756857599@www.saintsrowbeer.com
SUMMARY:Capital Trivia 6-730pm
DESCRIPTION:
URL:https://www.saintsrowbeer.com/event/capital-trivia-6-730pm-24/
CATEGORIES:Events
END:VEVENT
BEGIN:VEVENT
DTSTART;VALUE=DATE:20250905
DTEND;VALUE=DATE:20250906
DTSTAMP:20260420T094925
CREATED:20250325T133120Z
LAST-MODIFIED:20250603T142528Z
UID:686-1757030400-1757116799@www.saintsrowbeer.com
SUMMARY:Aj's Fryer Food Truck
DESCRIPTION:
URL:https://www.saintsrowbeer.com/event/ajs-fryer-food-truck-11/
CATEGORIES:Food Trucks
END:VEVENT
BEGIN:VEVENT
DTSTART;VALUE=DATE:20250905
DTEND;VALUE=DATE:20250906
DTSTAMP:20260420T094925
CREATED:20250325T133258Z
LAST-MODIFIED:20250709T122725Z
UID:992-1757030400-1757116799@www.saintsrowbeer.com
SUMMARY:Taproom Bingo 630-830
DESCRIPTION:
URL:https://www.saintsrowbeer.com/event/taproom-bingo-630-830-23/
CATEGORIES:Events
END:VEVENT
BEGIN:VEVENT
DTSTART;VALUE=DATE:20250905
DTEND;VALUE=DATE:20250906
DTSTAMP:20260420T094925
CREATED:20250325T133258Z
LAST-MODIFIED:20250325T133258Z
UID:991-1757030400-1757116799@www.saintsrowbeer.com
SUMMARY:MCRRC Run Club
DESCRIPTION:
URL:https://www.saintsrowbeer.com/event/mcrrc-run-club-24/
CATEGORIES:Events
END:VEVENT
BEGIN:VEVENT
DTSTART;VALUE=DATE:20250906
DTEND;VALUE=DATE:20250907
DTSTAMP:20260420T094925
CREATED:20250325T133120Z
LAST-MODIFIED:20250603T142528Z
UID:687-1757116800-1757203199@www.saintsrowbeer.com
SUMMARY:El Jefe Woodfired Pizza
DESCRIPTION:
URL:https://www.saintsrowbeer.com/event/el-jefe-woodfired-pizza-24/
CATEGORIES:Food Trucks
END:VEVENT
BEGIN:VEVENT
DTSTART;VALUE=DATE:20250906
DTEND;VALUE=DATE:20250907
DTSTAMP:20260420T094925
CREATED:20250709T122725Z
LAST-MODIFIED:20250709T122725Z
UID:1865-1757116800-1757203199@www.saintsrowbeer.com
SUMMARY:Dog Days of Saints Row 1-4
DESCRIPTION:
URL:https://www.saintsrowbeer.com/event/dog-days-of-saints-row-1-4/
END:VEVENT
BEGIN:VEVENT
DTSTART;VALUE=DATE:20250909
DTEND;VALUE=DATE:20250910
DTSTAMP:20260420T094925
CREATED:20250325T133120Z
LAST-MODIFIED:20250603T142528Z
UID:688-1757376000-1757462399@www.saintsrowbeer.com
SUMMARY:Napa Mexican & Korean Grill Food Truck
DESCRIPTION:
URL:https://www.saintsrowbeer.com/event/napa-mexican-korean-grill-food-truck-25/
CATEGORIES:Food Trucks
END:VEVENT
BEGIN:VEVENT
DTSTART;VALUE=DATE:20250909
DTEND;VALUE=DATE:20250910
DTSTAMP:20260420T094925
CREATED:20250325T133258Z
LAST-MODIFIED:20250909T161224Z
UID:993-1757376000-1757462399@www.saintsrowbeer.com
SUMMARY:Capital Trivia 6-730pm
DESCRIPTION:
URL:https://www.saintsrowbeer.com/event/capital-trivia-6-730pm-25/
CATEGORIES:Events
END:VEVENT
BEGIN:VEVENT
DTSTART;VALUE=DATE:20250910
DTEND;VALUE=DATE:20250911
DTSTAMP:20260420T094925
CREATED:20250603T143732Z
LAST-MODIFIED:20250909T161224Z
UID:1656-1757462400-1757548799@www.saintsrowbeer.com
SUMMARY:Museum on Tap: The Life of Reverend Josiah Henson @ 7pm
DESCRIPTION:
URL:https://www.saintsrowbeer.com/event/museum-on-tap-the-life-of-reverend-josiah-henson-7pm/
END:VEVENT
BEGIN:VEVENT
DTSTART;VALUE=DATE:20250911
DTEND;VALUE=DATE:20250912
DTSTAMP:20260420T094925
CREATED:20250909T161224Z
LAST-MODIFIED:20250909T161224Z
UID:1935-1757548800-1757635199@www.saintsrowbeer.com
SUMMARY:Simba Simms Acoustic Night 6-8
DESCRIPTION:
URL:https://www.saintsrowbeer.com/event/simba-simms-acoustic-night-6-8/
END:VEVENT
BEGIN:VEVENT
DTSTART;VALUE=DATE:20250912
DTEND;VALUE=DATE:20250913
DTSTAMP:20260420T094925
CREATED:20250325T133120Z
LAST-MODIFIED:20250603T142528Z
UID:689-1757635200-1757721599@www.saintsrowbeer.com
SUMMARY:Origins BBQ
DESCRIPTION:
URL:https://www.saintsrowbeer.com/event/origins-bbq-2/
CATEGORIES:Food Trucks
END:VEVENT
BEGIN:VEVENT
DTSTART;VALUE=DATE:20250912
DTEND;VALUE=DATE:20250913
DTSTAMP:20260420T094925
CREATED:20250325T133258Z
LAST-MODIFIED:20250325T133258Z
UID:994-1757635200-1757721599@www.saintsrowbeer.com
SUMMARY:MCRRC Run Club
DESCRIPTION:
URL:https://www.saintsrowbeer.com/event/mcrrc-run-club-25/
CATEGORIES:Events
END:VEVENT
BEGIN:VEVENT
DTSTART;VALUE=DATE:20250912
DTEND;VALUE=DATE:20250913
DTSTAMP:20260420T094925
CREATED:20250325T133258Z
LAST-MODIFIED:20250909T161224Z
UID:995-1757635200-1757721599@www.saintsrowbeer.com
SUMMARY:Taproom Bingo 630-830
DESCRIPTION:
URL:https://www.saintsrowbeer.com/event/taproom-bingo-630-830-24/
CATEGORIES:Events
END:VEVENT
BEGIN:VEVENT
DTSTART;VALUE=DATE:20250912
DTEND;VALUE=DATE:20250913
DTSTAMP:20260420T094925
CREATED:20250909T161307Z
LAST-MODIFIED:20250909T161307Z
UID:1991-1757635200-1757721599@www.saintsrowbeer.com
SUMMARY:MOCO Comedy Show 8-10
DESCRIPTION:
URL:https://www.saintsrowbeer.com/event/moco-comedy-show-8-10/
CATEGORIES:Events
END:VEVENT
BEGIN:VEVENT
DTSTART;VALUE=DATE:20250912
DTEND;VALUE=DATE:20250915
DTSTAMP:20260420T094925
CREATED:20250325T133258Z
LAST-MODIFIED:20250909T161224Z
UID:1000-1757635200-1757894399@www.saintsrowbeer.com
SUMMARY:ANNIVERSARY WEEKEND
DESCRIPTION:
URL:https://www.saintsrowbeer.com/event/anniversary-weekend/
CATEGORIES:Events
END:VEVENT
BEGIN:VEVENT
DTSTART;VALUE=DATE:20250913
DTEND;VALUE=DATE:20250914
DTSTAMP:20260420T094925
CREATED:20250325T133120Z
LAST-MODIFIED:20250603T142528Z
UID:690-1757721600-1757807999@www.saintsrowbeer.com
SUMMARY:El Jefe Woodfired Pizza
DESCRIPTION:
URL:https://www.saintsrowbeer.com/event/el-jefe-woodfired-pizza-25/
CATEGORIES:Food Trucks
END:VEVENT
BEGIN:VEVENT
DTSTART;VALUE=DATE:20250913
DTEND;VALUE=DATE:20250914
DTSTAMP:20260420T094925
CREATED:20250909T161224Z
LAST-MODIFIED:20250909T161224Z
UID:1936-1757721600-1757807999@www.saintsrowbeer.com
SUMMARY:District Karaoke 7-10
DESCRIPTION:
URL:https://www.saintsrowbeer.com/event/district-karaoke-7-10/
END:VEVENT
BEGIN:VEVENT
DTSTART;VALUE=DATE:20250913
DTEND;VALUE=DATE:20250914
DTSTAMP:20260420T094925
CREATED:20250909T161225Z
LAST-MODIFIED:20250909T161225Z
UID:1938-1757721600-1757807999@www.saintsrowbeer.com
SUMMARY:MoCo Spurs @1230
DESCRIPTION:
URL:https://www.saintsrowbeer.com/event/moco-spurs-1230/
END:VEVENT
BEGIN:VEVENT
DTSTART;VALUE=DATE:20250914
DTEND;VALUE=DATE:20250915
DTSTAMP:20260420T094925
CREATED:20250909T161225Z
LAST-MODIFIED:20250909T161225Z
UID:1937-1757808000-1757894399@www.saintsrowbeer.com
SUMMARY:Mariachi Coffee Hour 10-12
DESCRIPTION:
URL:https://www.saintsrowbeer.com/event/mariachi-coffee-hour-10-12/
END:VEVENT
BEGIN:VEVENT
DTSTART;TZID=America/New_York:20250914T190000
DTEND;TZID=America/New_York:20250914T200000
DTSTAMP:20260420T094925
CREATED:20250325T133258Z
LAST-MODIFIED:20250909T161225Z
UID:999-1757876400-1757880000@www.saintsrowbeer.com
SUMMARY:Anniversary Beer Dinner
DESCRIPTION:
URL:https://www.saintsrowbeer.com/event/anniversary-beer-dinner/
CATEGORIES:Events
END:VEVENT
BEGIN:VEVENT
DTSTART;VALUE=DATE:20250916
DTEND;VALUE=DATE:20250917
DTSTAMP:20260420T094925
CREATED:20250325T133120Z
LAST-MODIFIED:20250603T142528Z
UID:691-1757980800-1758067199@www.saintsrowbeer.com
SUMMARY:Napa Mexican & Korean Grill Food Truck
DESCRIPTION:
URL:https://www.saintsrowbeer.com/event/napa-mexican-korean-grill-food-truck-26/
CATEGORIES:Food Trucks
END:VEVENT
BEGIN:VEVENT
DTSTART;VALUE=DATE:20250916
DTEND;VALUE=DATE:20250917
DTSTAMP:20260420T094925
CREATED:20250325T133258Z
LAST-MODIFIED:20250909T161225Z
UID:996-1757980800-1758067199@www.saintsrowbeer.com
SUMMARY:Capital Trivia 6-730pm
DESCRIPTION:
URL:https://www.saintsrowbeer.com/event/capital-trivia-6-730pm-26/
CATEGORIES:Events
END:VEVENT
BEGIN:VEVENT
DTSTART;VALUE=DATE:20250916
DTEND;VALUE=DATE:20250917
DTSTAMP:20260420T094925
CREATED:20250909T161225Z
LAST-MODIFIED:20250909T161225Z
UID:1939-1757980800-1758067199@www.saintsrowbeer.com
SUMMARY:Montgomery Spurs 3pm
DESCRIPTION:
URL:https://www.saintsrowbeer.com/event/montgomery-spurs-3pm/
END:VEVENT
BEGIN:VEVENT
DTSTART;VALUE=DATE:20250918
DTEND;VALUE=DATE:20250919
DTSTAMP:20260420T094925
CREATED:20250909T161225Z
LAST-MODIFIED:20250909T161225Z
UID:1940-1758153600-1758239999@www.saintsrowbeer.com
SUMMARY:Pasta Series Class
DESCRIPTION:
URL:https://www.saintsrowbeer.com/event/pasta-series-class/
END:VEVENT
BEGIN:VEVENT
DTSTART;VALUE=DATE:20250919
DTEND;VALUE=DATE:20250920
DTSTAMP:20260420T094925
CREATED:20250325T133120Z
LAST-MODIFIED:20250603T142529Z
UID:692-1758240000-1758326399@www.saintsrowbeer.com
SUMMARY:Aj's Fryer Food Truck
DESCRIPTION:
URL:https://www.saintsrowbeer.com/event/ajs-fryer-food-truck-12/
CATEGORIES:Food Trucks
END:VEVENT
BEGIN:VEVENT
DTSTART;VALUE=DATE:20250919
DTEND;VALUE=DATE:20250920
DTSTAMP:20260420T094925
CREATED:20250325T133258Z
LAST-MODIFIED:20250909T161225Z
UID:997-1758240000-1758326399@www.saintsrowbeer.com
SUMMARY:Taproom Bingo 630-830
DESCRIPTION:
URL:https://www.saintsrowbeer.com/event/taproom-bingo-630-830-25/
CATEGORIES:Events
END:VEVENT
BEGIN:VEVENT
DTSTART;VALUE=DATE:20250919
DTEND;VALUE=DATE:20250920
DTSTAMP:20260420T094925
CREATED:20250325T133258Z
LAST-MODIFIED:20250325T133258Z
UID:998-1758240000-1758326399@www.saintsrowbeer.com
SUMMARY:MCRRC Run Club
DESCRIPTION:
URL:https://www.saintsrowbeer.com/event/mcrrc-run-club-26/
CATEGORIES:Events
END:VEVENT
BEGIN:VEVENT
DTSTART;VALUE=DATE:20250920
DTEND;VALUE=DATE:20250921
DTSTAMP:20260420T094925
CREATED:20250325T133120Z
LAST-MODIFIED:20250603T142528Z
UID:693-1758326400-1758412799@www.saintsrowbeer.com
SUMMARY:El Jefe Woodfired Pizza
DESCRIPTION:
URL:https://www.saintsrowbeer.com/event/el-jefe-woodfired-pizza-26/
CATEGORIES:Food Trucks
END:VEVENT
BEGIN:VEVENT
DTSTART;VALUE=DATE:20250920
DTEND;VALUE=DATE:20250921
DTSTAMP:20260420T094925
CREATED:20250909T161225Z
LAST-MODIFIED:20250909T161225Z
UID:1941-1758326400-1758412799@www.saintsrowbeer.com
SUMMARY:Encore Comedy Show 7-10
DESCRIPTION:
URL:https://www.saintsrowbeer.com/event/encore-comedy-show-7-10/
END:VEVENT
END:VCALENDAR