BEGIN:VCALENDAR
VERSION:2.0
PRODID:-//Saints Row Craft Collective - ECPv6.10.3//NONSGML v1.0//EN
CALSCALE:GREGORIAN
METHOD:PUBLISH
X-WR-CALNAME:Saints Row Craft Collective
X-ORIGINAL-URL:https://www.saintsrowbeer.com
X-WR-CALDESC:Events for Saints Row Craft Collective
REFRESH-INTERVAL;VALUE=DURATION:PT1H
X-Robots-Tag:noindex
X-PUBLISHED-TTL:PT1H
BEGIN:VTIMEZONE
TZID:America/New_York
BEGIN:DAYLIGHT
TZOFFSETFROM:-0500
TZOFFSETTO:-0400
TZNAME:EDT
DTSTART:20250309T070000
END:DAYLIGHT
BEGIN:STANDARD
TZOFFSETFROM:-0400
TZOFFSETTO:-0500
TZNAME:EST
DTSTART:20251102T060000
END:STANDARD
END:VTIMEZONE
BEGIN:VEVENT
DTSTART;VALUE=DATE:20250823
DTEND;VALUE=DATE:20250824
DTSTAMP:20260422T044841
CREATED:20250325T133120Z
LAST-MODIFIED:20250603T142528Z
UID:680-1755907200-1755993599@www.saintsrowbeer.com
SUMMARY:El Jefe Woodfired Pizza
DESCRIPTION:
URL:https://www.saintsrowbeer.com/event/el-jefe-woodfired-pizza-22/
CATEGORIES:Food Trucks
END:VEVENT
BEGIN:VEVENT
DTSTART;VALUE=DATE:20250822
DTEND;VALUE=DATE:20250823
DTSTAMP:20260422T044841
CREATED:20250325T133120Z
LAST-MODIFIED:20250603T142528Z
UID:681-1755820800-1755907199@www.saintsrowbeer.com
SUMMARY:Aj's Fryer Food Truck
DESCRIPTION:
URL:https://www.saintsrowbeer.com/event/ajs-fryer-food-truck-10/
CATEGORIES:Food Trucks
END:VEVENT
BEGIN:VEVENT
DTSTART;VALUE=DATE:20250819
DTEND;VALUE=DATE:20250820
DTSTAMP:20260422T044841
CREATED:20250325T133120Z
LAST-MODIFIED:20250603T142528Z
UID:679-1755561600-1755647999@www.saintsrowbeer.com
SUMMARY:Napa Mexican & Korean Grill Food Truck
DESCRIPTION:
URL:https://www.saintsrowbeer.com/event/napa-mexican-korean-grill-food-truck-22/
CATEGORIES:Food Trucks
END:VEVENT
BEGIN:VEVENT
DTSTART;VALUE=DATE:20250816
DTEND;VALUE=DATE:20250817
DTSTAMP:20260422T044841
CREATED:20250325T133120Z
LAST-MODIFIED:20250603T142528Z
UID:678-1755302400-1755388799@www.saintsrowbeer.com
SUMMARY:El Jefe Woodfired Pizza
DESCRIPTION:
URL:https://www.saintsrowbeer.com/event/el-jefe-woodfired-pizza-21/
CATEGORIES:Food Trucks
END:VEVENT
BEGIN:VEVENT
DTSTART;VALUE=DATE:20250815
DTEND;VALUE=DATE:20250816
DTSTAMP:20260422T044841
CREATED:20250603T142528Z
LAST-MODIFIED:20250603T142528Z
UID:1572-1755216000-1755302399@www.saintsrowbeer.com
SUMMARY:Underground Pizza Company Food Truck
DESCRIPTION:
URL:https://www.saintsrowbeer.com/event/underground-pizza-company-food-truck-4/
CATEGORIES:Food Trucks
END:VEVENT
BEGIN:VEVENT
DTSTART;VALUE=DATE:20250812
DTEND;VALUE=DATE:20250813
DTSTAMP:20260422T044841
CREATED:20250325T133119Z
LAST-MODIFIED:20250603T142528Z
UID:677-1754956800-1755043199@www.saintsrowbeer.com
SUMMARY:Napa Mexican & Korean Grill Food Truck
DESCRIPTION:
URL:https://www.saintsrowbeer.com/event/napa-mexican-korean-grill-food-truck-21/
CATEGORIES:Food Trucks
END:VEVENT
BEGIN:VEVENT
DTSTART;VALUE=DATE:20250809
DTEND;VALUE=DATE:20250810
DTSTAMP:20260422T044841
CREATED:20250325T133119Z
LAST-MODIFIED:20250603T142528Z
UID:676-1754697600-1754783999@www.saintsrowbeer.com
SUMMARY:El Jefe Woodfired Pizza
DESCRIPTION:
URL:https://www.saintsrowbeer.com/event/el-jefe-woodfired-pizza-20/
CATEGORIES:Food Trucks
END:VEVENT
BEGIN:VEVENT
DTSTART;VALUE=DATE:20250808
DTEND;VALUE=DATE:20250809
DTSTAMP:20260422T044841
CREATED:20250325T133119Z
LAST-MODIFIED:20250603T142528Z
UID:675-1754611200-1754697599@www.saintsrowbeer.com
SUMMARY:Aj's Fryer Food Truck
DESCRIPTION:
URL:https://www.saintsrowbeer.com/event/ajs-fryer-food-truck-9/
CATEGORIES:Food Trucks
END:VEVENT
BEGIN:VEVENT
DTSTART;VALUE=DATE:20250805
DTEND;VALUE=DATE:20250806
DTSTAMP:20260422T044841
CREATED:20250325T133119Z
LAST-MODIFIED:20250603T142528Z
UID:674-1754352000-1754438399@www.saintsrowbeer.com
SUMMARY:Napa Mexican & Korean Grill Food Truck
DESCRIPTION:
URL:https://www.saintsrowbeer.com/event/napa-mexican-korean-grill-food-truck-20/
CATEGORIES:Food Trucks
END:VEVENT
BEGIN:VEVENT
DTSTART;VALUE=DATE:20250802
DTEND;VALUE=DATE:20250803
DTSTAMP:20260422T044841
CREATED:20250325T133119Z
LAST-MODIFIED:20250603T142528Z
UID:673-1754092800-1754179199@www.saintsrowbeer.com
SUMMARY:El Jefe Woodfired Pizza
DESCRIPTION:
URL:https://www.saintsrowbeer.com/event/el-jefe-woodfired-pizza-19/
CATEGORIES:Food Trucks
END:VEVENT
BEGIN:VEVENT
DTSTART;VALUE=DATE:20250801
DTEND;VALUE=DATE:20250802
DTSTAMP:20260422T044841
CREATED:20250603T142528Z
LAST-MODIFIED:20250603T142528Z
UID:1571-1754006400-1754092799@www.saintsrowbeer.com
SUMMARY:Underground Pizza Company Food Truck
DESCRIPTION:
URL:https://www.saintsrowbeer.com/event/underground-pizza-company-food-truck-3/
CATEGORIES:Food Trucks
END:VEVENT
BEGIN:VEVENT
DTSTART;VALUE=DATE:20250729
DTEND;VALUE=DATE:20250730
DTSTAMP:20260422T044841
CREATED:20250325T133119Z
LAST-MODIFIED:20250603T142527Z
UID:672-1753747200-1753833599@www.saintsrowbeer.com
SUMMARY:Napa Mexican & Korean Grill Food Truck
DESCRIPTION:
URL:https://www.saintsrowbeer.com/event/napa-mexican-korean-grill-food-truck-19/
CATEGORIES:Food Trucks
END:VEVENT
BEGIN:VEVENT
DTSTART;VALUE=DATE:20250726
DTEND;VALUE=DATE:20250727
DTSTAMP:20260422T044841
CREATED:20250325T133119Z
LAST-MODIFIED:20250603T142527Z
UID:670-1753488000-1753574399@www.saintsrowbeer.com
SUMMARY:El Jefe Woodfired Pizza
DESCRIPTION:
URL:https://www.saintsrowbeer.com/event/el-jefe-woodfired-pizza-18/
CATEGORIES:Food Trucks
END:VEVENT
BEGIN:VEVENT
DTSTART;VALUE=DATE:20250725
DTEND;VALUE=DATE:20250726
DTSTAMP:20260422T044841
CREATED:20250325T133119Z
LAST-MODIFIED:20250603T142527Z
UID:671-1753401600-1753487999@www.saintsrowbeer.com
SUMMARY:Aj's Fryer Food Truck
DESCRIPTION:
URL:https://www.saintsrowbeer.com/event/ajs-fryer-food-truck-8/
CATEGORIES:Food Trucks
END:VEVENT
BEGIN:VEVENT
DTSTART;VALUE=DATE:20250724
DTEND;VALUE=DATE:20250725
DTSTAMP:20260422T044841
CREATED:20250603T142527Z
LAST-MODIFIED:20250603T142527Z
UID:1570-1753315200-1753401599@www.saintsrowbeer.com
SUMMARY:Hijos del Maíz Food Stand
DESCRIPTION:
URL:https://www.saintsrowbeer.com/event/hijos-del-maiz-food-stand-10/
CATEGORIES:Food Trucks
END:VEVENT
BEGIN:VEVENT
DTSTART;VALUE=DATE:20250722
DTEND;VALUE=DATE:20250723
DTSTAMP:20260422T044841
CREATED:20250325T133119Z
LAST-MODIFIED:20250603T142527Z
UID:669-1753142400-1753228799@www.saintsrowbeer.com
SUMMARY:Napa Mexican & Korean Grill Food Truck
DESCRIPTION:
URL:https://www.saintsrowbeer.com/event/napa-mexican-korean-grill-food-truck-18/
CATEGORIES:Food Trucks
END:VEVENT
BEGIN:VEVENT
DTSTART;VALUE=DATE:20250719
DTEND;VALUE=DATE:20250720
DTSTAMP:20260422T044841
CREATED:20250325T133119Z
LAST-MODIFIED:20250603T142527Z
UID:668-1752883200-1752969599@www.saintsrowbeer.com
SUMMARY:El Jefe Woodfired Pizza
DESCRIPTION:
URL:https://www.saintsrowbeer.com/event/el-jefe-woodfired-pizza-17/
CATEGORIES:Food Trucks
END:VEVENT
BEGIN:VEVENT
DTSTART;VALUE=DATE:20250718
DTEND;VALUE=DATE:20250719
DTSTAMP:20260422T044841
CREATED:20250325T133119Z
LAST-MODIFIED:20250603T142527Z
UID:667-1752796800-1752883199@www.saintsrowbeer.com
SUMMARY:Kuk's Tribute Food Truck
DESCRIPTION:
URL:https://www.saintsrowbeer.com/event/kuks-tribute-food-truck-5/
CATEGORIES:Food Trucks
END:VEVENT
BEGIN:VEVENT
DTSTART;VALUE=DATE:20250717
DTEND;VALUE=DATE:20250718
DTSTAMP:20260422T044841
CREATED:20250603T142527Z
LAST-MODIFIED:20250603T142527Z
UID:1569-1752710400-1752796799@www.saintsrowbeer.com
SUMMARY:Hijos del Maíz Food Stand
DESCRIPTION:
URL:https://www.saintsrowbeer.com/event/hijos-del-maiz-food-stand-9/
CATEGORIES:Food Trucks
END:VEVENT
BEGIN:VEVENT
DTSTART;VALUE=DATE:20250715
DTEND;VALUE=DATE:20250716
DTSTAMP:20260422T044841
CREATED:20250325T133119Z
LAST-MODIFIED:20250603T142527Z
UID:666-1752537600-1752623999@www.saintsrowbeer.com
SUMMARY:Napa Mexican & Korean Grill Food Truck
DESCRIPTION:
URL:https://www.saintsrowbeer.com/event/napa-mexican-korean-grill-food-truck-17/
CATEGORIES:Food Trucks
END:VEVENT
BEGIN:VEVENT
DTSTART;VALUE=DATE:20250712
DTEND;VALUE=DATE:20250713
DTSTAMP:20260422T044841
CREATED:20250325T133119Z
LAST-MODIFIED:20250603T142527Z
UID:664-1752278400-1752364799@www.saintsrowbeer.com
SUMMARY:El Jefe Woodfired Pizza
DESCRIPTION:
URL:https://www.saintsrowbeer.com/event/el-jefe-woodfired-pizza-16/
CATEGORIES:Food Trucks
END:VEVENT
BEGIN:VEVENT
DTSTART;VALUE=DATE:20250711
DTEND;VALUE=DATE:20250712
DTSTAMP:20260422T044841
CREATED:20250325T133119Z
LAST-MODIFIED:20250603T142527Z
UID:665-1752192000-1752278399@www.saintsrowbeer.com
SUMMARY:Aj's Fryer Food Truck
DESCRIPTION:
URL:https://www.saintsrowbeer.com/event/ajs-fryer-food-truck-7/
CATEGORIES:Food Trucks
END:VEVENT
BEGIN:VEVENT
DTSTART;VALUE=DATE:20250710
DTEND;VALUE=DATE:20250711
DTSTAMP:20260422T044841
CREATED:20250603T142527Z
LAST-MODIFIED:20250603T142527Z
UID:1568-1752105600-1752191999@www.saintsrowbeer.com
SUMMARY:Hijos del Maíz Food Stand
DESCRIPTION:
URL:https://www.saintsrowbeer.com/event/hijos-del-maiz-food-stand-8/
CATEGORIES:Food Trucks
END:VEVENT
BEGIN:VEVENT
DTSTART;VALUE=DATE:20250708
DTEND;VALUE=DATE:20250709
DTSTAMP:20260422T044841
CREATED:20250325T133119Z
LAST-MODIFIED:20250603T142527Z
UID:663-1751932800-1752019199@www.saintsrowbeer.com
SUMMARY:Napa Mexican & Korean Grill Food Truck
DESCRIPTION:
URL:https://www.saintsrowbeer.com/event/napa-mexican-korean-grill-food-truck-16/
CATEGORIES:Food Trucks
END:VEVENT
BEGIN:VEVENT
DTSTART;VALUE=DATE:20250705
DTEND;VALUE=DATE:20250706
DTSTAMP:20260422T044841
CREATED:20250325T133119Z
LAST-MODIFIED:20250603T142527Z
UID:662-1751673600-1751759999@www.saintsrowbeer.com
SUMMARY:El Jefe Woodfired Pizza
DESCRIPTION:
URL:https://www.saintsrowbeer.com/event/el-jefe-woodfired-pizza-15/
CATEGORIES:Food Trucks
END:VEVENT
BEGIN:VEVENT
DTSTART;VALUE=DATE:20250701
DTEND;VALUE=DATE:20250702
DTSTAMP:20260422T044841
CREATED:20250325T133119Z
LAST-MODIFIED:20250603T142527Z
UID:661-1751328000-1751414399@www.saintsrowbeer.com
SUMMARY:Napa Mexican & Korean Grill Food Truck
DESCRIPTION:
URL:https://www.saintsrowbeer.com/event/napa-mexican-korean-grill-food-truck-15/
CATEGORIES:Food Trucks
END:VEVENT
BEGIN:VEVENT
DTSTART;VALUE=DATE:20250628
DTEND;VALUE=DATE:20250629
DTSTAMP:20260422T044841
CREATED:20250325T133119Z
LAST-MODIFIED:20250603T142527Z
UID:660-1751068800-1751155199@www.saintsrowbeer.com
SUMMARY:El Jefe Woodfired Pizza
DESCRIPTION:
URL:https://www.saintsrowbeer.com/event/el-jefe-woodfired-pizza-14/
CATEGORIES:Food Trucks
END:VEVENT
BEGIN:VEVENT
DTSTART;VALUE=DATE:20250627
DTEND;VALUE=DATE:20250628
DTSTAMP:20260422T044841
CREATED:20250325T133119Z
LAST-MODIFIED:20250603T142527Z
UID:659-1750982400-1751068799@www.saintsrowbeer.com
SUMMARY:Aj's Fryer Food Truck
DESCRIPTION:
URL:https://www.saintsrowbeer.com/event/ajs-fryer-food-truck-6/
CATEGORIES:Food Trucks
END:VEVENT
BEGIN:VEVENT
DTSTART;VALUE=DATE:20250626
DTEND;VALUE=DATE:20250627
DTSTAMP:20260422T044841
CREATED:20250603T142527Z
LAST-MODIFIED:20250603T142527Z
UID:1567-1750896000-1750982399@www.saintsrowbeer.com
SUMMARY:Hijos del Maíz Food Stand
DESCRIPTION:
URL:https://www.saintsrowbeer.com/event/hijos-del-maiz-food-stand-7/
CATEGORIES:Food Trucks
END:VEVENT
BEGIN:VEVENT
DTSTART;VALUE=DATE:20250625
DTEND;VALUE=DATE:20250626
DTSTAMP:20260422T044841
CREATED:20250603T142527Z
LAST-MODIFIED:20250603T142527Z
UID:1566-1750809600-1750895999@www.saintsrowbeer.com
SUMMARY:Beltway Bistro Food Truck
DESCRIPTION:
URL:https://www.saintsrowbeer.com/event/beltway-bistro-food-truck-7/
CATEGORIES:Food Trucks
END:VEVENT
END:VCALENDAR