BEGIN:VCALENDAR
VERSION:2.0
PRODID:-//Saints Row Craft Collective - ECPv6.10.3//NONSGML v1.0//EN
CALSCALE:GREGORIAN
METHOD:PUBLISH
X-ORIGINAL-URL:https://www.saintsrowbeer.com
X-WR-CALDESC:Events for Saints Row Craft Collective
REFRESH-INTERVAL;VALUE=DURATION:PT1H
X-Robots-Tag:noindex
X-PUBLISHED-TTL:PT1H
BEGIN:VTIMEZONE
TZID:America/New_York
BEGIN:DAYLIGHT
TZOFFSETFROM:-0500
TZOFFSETTO:-0400
TZNAME:EDT
DTSTART:20250309T070000
END:DAYLIGHT
BEGIN:STANDARD
TZOFFSETFROM:-0400
TZOFFSETTO:-0500
TZNAME:EST
DTSTART:20251102T060000
END:STANDARD
END:VTIMEZONE
BEGIN:VEVENT
DTSTART;VALUE=DATE:20250405
DTEND;VALUE=DATE:20250406
DTSTAMP:20260422T190623
CREATED:20250325T133117Z
LAST-MODIFIED:20250327T063757Z
UID:619-1743811200-1743897599@www.saintsrowbeer.com
SUMMARY:El Jefe Woodfired Pizza
DESCRIPTION:
URL:https://www.saintsrowbeer.com/event/el-jefe-woodfired-pizza-2/
CATEGORIES:Food Trucks
END:VEVENT
BEGIN:VEVENT
DTSTART;VALUE=DATE:20250402
DTEND;VALUE=DATE:20250403
DTSTAMP:20260422T190623
CREATED:20250325T133117Z
LAST-MODIFIED:20250327T063757Z
UID:617-1743552000-1743638399@www.saintsrowbeer.com
SUMMARY:Hijos del Maíz Food Stand
DESCRIPTION:
URL:https://www.saintsrowbeer.com/event/hijos-del-maiz-food-stand/
CATEGORIES:Food Trucks
END:VEVENT
BEGIN:VEVENT
DTSTART;VALUE=DATE:20250401
DTEND;VALUE=DATE:20250402
DTSTAMP:20260422T190623
CREATED:20250325T133117Z
LAST-MODIFIED:20250327T063757Z
UID:618-1743465600-1743551999@www.saintsrowbeer.com
SUMMARY:Napa Mexican & Korean Grill Food Truck
DESCRIPTION:
URL:https://www.saintsrowbeer.com/event/napa-mexican-korean-grill-food-truck-2/
CATEGORIES:Food Trucks
END:VEVENT
BEGIN:VEVENT
DTSTART;VALUE=DATE:20250329
DTEND;VALUE=DATE:20250330
DTSTAMP:20260422T190623
CREATED:20250325T133117Z
LAST-MODIFIED:20250327T063757Z
UID:616-1743206400-1743292799@www.saintsrowbeer.com
SUMMARY:El Jefe Woodfired Pizza
DESCRIPTION:
URL:https://www.saintsrowbeer.com/event/el-jefe-woodfired-pizza/
CATEGORIES:Food Trucks
END:VEVENT
BEGIN:VEVENT
DTSTART;VALUE=DATE:20250328
DTEND;VALUE=DATE:20250329
DTSTAMP:20260422T190623
CREATED:20250325T133116Z
LAST-MODIFIED:20250327T063757Z
UID:615-1743120000-1743206399@www.saintsrowbeer.com
SUMMARY:Kuk's Tribute Food Truck
DESCRIPTION:
URL:https://www.saintsrowbeer.com/event/kuks-tribute-food-truck/
CATEGORIES:Food Trucks
END:VEVENT
BEGIN:VEVENT
DTSTART;VALUE=DATE:20250326
DTEND;VALUE=DATE:20250327
DTSTAMP:20260422T190623
CREATED:20250325T133116Z
LAST-MODIFIED:20250325T134151Z
UID:613-1742947200-1743033599@www.saintsrowbeer.com
SUMMARY:Beltway Bistro Food Truck
DESCRIPTION:4-87:30
URL:https://www.saintsrowbeer.com/event/beltway-bistro-food-truck-5/
CATEGORIES:Food Trucks
END:VEVENT
BEGIN:VEVENT
DTSTART;VALUE=DATE:20250325
DTEND;VALUE=DATE:20250326
DTSTAMP:20260422T190623
CREATED:20250325T133116Z
LAST-MODIFIED:20250325T134204Z
UID:614-1742860800-1742947199@www.saintsrowbeer.com
SUMMARY:Napa Mexican & Korean Grill Food Truck
DESCRIPTION:
URL:https://www.saintsrowbeer.com/event/napa-mexican-korean-grill-food-truck/
CATEGORIES:Food Trucks
END:VEVENT
BEGIN:VEVENT
DTSTART;TZID=America/New_York:20250228T170000
DTEND;TZID=America/New_York:20250228T210000
DTSTAMP:20260422T190623
CREATED:20250128T124449Z
LAST-MODIFIED:20250128T124449Z
UID:581-1740762000-1740776400@www.saintsrowbeer.com
SUMMARY:Square Taco Food Truck
DESCRIPTION:
URL:https://www.saintsrowbeer.com/event/square-taco-food-truck-2/
LOCATION:Saints Row Brewing\, 15 Fulks Corner Avenue\, Suite 101\, Gaithersburg\, MD\, 20877\, United States
CATEGORIES:Food Trucks
ATTACH;FMTTYPE=image/png:https://www.saintsrowbeer.com/wp-content/uploads/2025/01/Screenshot-2025-01-27-at-10.41.09 AM-e1737992543292.png
END:VEVENT
BEGIN:VEVENT
DTSTART;TZID=America/New_York:20250226T170000
DTEND;TZID=America/New_York:20250226T200000
DTSTAMP:20260422T190623
CREATED:20250128T124354Z
LAST-MODIFIED:20250128T124354Z
UID:579-1740589200-1740600000@www.saintsrowbeer.com
SUMMARY:Beltway Bistro Food Truck
DESCRIPTION:
URL:https://www.saintsrowbeer.com/event/beltway-bistro-food-truck-4/
CATEGORIES:Food Trucks
ATTACH;FMTTYPE=image/png:https://www.saintsrowbeer.com/wp-content/uploads/2025/01/Screenshot-2025-01-27-at-10.37.16 AM-e1737992262445.png
END:VEVENT
BEGIN:VEVENT
DTSTART;TZID=America/New_York:20250225T170000
DTEND;TZID=America/New_York:20250225T210000
DTSTAMP:20260422T190623
CREATED:20250128T124243Z
LAST-MODIFIED:20250128T124243Z
UID:575-1740502800-1740517200@www.saintsrowbeer.com
SUMMARY:Napa Grill Korean Mexican Food Truck
DESCRIPTION:
URL:https://www.saintsrowbeer.com/event/napa-grill-korean-mexican-food-truck-4/
LOCATION:Saints Row Brewing\, 15 Fulks Corner Avenue\, Suite 101\, Gaithersburg\, MD\, 20877\, United States
CATEGORIES:Food Trucks
ATTACH;FMTTYPE=image/png:https://www.saintsrowbeer.com/wp-content/uploads/2025/01/Screenshot-2025-01-27-at-10.13.16 AM-e1738012440367.png
END:VEVENT
BEGIN:VEVENT
DTSTART;TZID=America/New_York:20250222T130000
DTEND;TZID=America/New_York:20250222T210000
DTSTAMP:20260422T190623
CREATED:20250127T212809Z
LAST-MODIFIED:20250127T212809Z
UID:567-1740229200-1740258000@www.saintsrowbeer.com
SUMMARY:El Jefe Wood Fire Pizza
DESCRIPTION:Wood fire pizza made fresh onsite
URL:https://www.saintsrowbeer.com/event/el-jefe-wood-fire-pizza-4/
LOCATION:Saints Row Brewing\, 15 Fulks Corner Avenue\, Suite 101\, Gaithersburg\, MD\, 20877\, United States
CATEGORIES:Food Trucks
ATTACH;FMTTYPE=image/png:https://www.saintsrowbeer.com/wp-content/uploads/2025/01/Screenshot-2025-01-27-at-10.41.37 AM-e1738012022416.png
END:VEVENT
BEGIN:VEVENT
DTSTART;TZID=America/New_York:20250220T170000
DTEND;TZID=America/New_York:20250220T200000
DTSTAMP:20260422T190623
CREATED:20250127T212639Z
LAST-MODIFIED:20250127T212639Z
UID:565-1740070800-1740081600@www.saintsrowbeer.com
SUMMARY:Beltway Bistro Food Truck
DESCRIPTION:
URL:https://www.saintsrowbeer.com/event/beltway-bistro-food-truck-3/
LOCATION:Saints Row Brewing\, 15 Fulks Corner Avenue\, Suite 101\, Gaithersburg\, MD\, 20877\, United States
CATEGORIES:Food Trucks
ATTACH;FMTTYPE=image/png:https://www.saintsrowbeer.com/wp-content/uploads/2025/01/Screenshot-2025-01-27-at-10.37.16 AM-e1737992262445.png
END:VEVENT
BEGIN:VEVENT
DTSTART;TZID=America/New_York:20250219T170000
DTEND;TZID=America/New_York:20250219T200000
DTSTAMP:20260422T190623
CREATED:20250127T212244Z
LAST-MODIFIED:20250127T212608Z
UID:557-1739984400-1739995200@www.saintsrowbeer.com
SUMMARY:Beltway Bistro Food Truck
DESCRIPTION:
URL:https://www.saintsrowbeer.com/event/beltway-bistro-food-truck-2/
LOCATION:Saints Row Brewing\, 15 Fulks Corner Avenue\, Suite 101\, Gaithersburg\, MD\, 20877\, United States
CATEGORIES:Food Trucks
ATTACH;FMTTYPE=image/png:https://www.saintsrowbeer.com/wp-content/uploads/2025/01/Screenshot-2025-01-27-at-10.37.16 AM-e1737992262445.png
END:VEVENT
BEGIN:VEVENT
DTSTART;TZID=America/New_York:20250218T170000
DTEND;TZID=America/New_York:20250218T210000
DTSTAMP:20260422T190623
CREATED:20250127T212134Z
LAST-MODIFIED:20250127T212134Z
UID:553-1739898000-1739912400@www.saintsrowbeer.com
SUMMARY:Napa Grill Korean Mexican Food Truck
DESCRIPTION:
URL:https://www.saintsrowbeer.com/event/napa-grill-korean-mexican-food-truck-3/
LOCATION:Saints Row Brewing\, 15 Fulks Corner Avenue\, Suite 101\, Gaithersburg\, MD\, 20877\, United States
CATEGORIES:Food Trucks
ATTACH;FMTTYPE=image/png:https://www.saintsrowbeer.com/wp-content/uploads/2025/01/Screenshot-2025-01-27-at-10.13.16 AM-e1738012440367.png
END:VEVENT
BEGIN:VEVENT
DTSTART;TZID=America/New_York:20250216T183000
DTEND;TZID=America/New_York:20250216T203000
DTSTAMP:20260422T190623
CREATED:20250127T211801Z
LAST-MODIFIED:20250128T125154Z
UID:548-1739730600-1739737800@www.saintsrowbeer.com
SUMMARY:Beer Dinner (Ticketed Event)
DESCRIPTION:Join us for a 4 course beer pairing dinner featuring Chef James of Beltway Bistro. \nReserve your seat here.
URL:https://www.saintsrowbeer.com/event/beer-dinner-ticketed-event/
LOCATION:Saints Row Brewing\, 15 Fulks Corner Avenue\, Suite 101\, Gaithersburg\, MD\, 20877\, United States
CATEGORIES:Food Trucks
END:VEVENT
BEGIN:VEVENT
DTSTART;TZID=America/New_York:20250215T130000
DTEND;TZID=America/New_York:20250215T210000
DTSTAMP:20260422T190623
CREATED:20250127T211621Z
LAST-MODIFIED:20250127T212031Z
UID:546-1739624400-1739653200@www.saintsrowbeer.com
SUMMARY:El Jefe Wood Fire Pizza
DESCRIPTION:Wood oven pizza made fresh onsite
URL:https://www.saintsrowbeer.com/event/el-jefe-wood-fire-pizza-3/
LOCATION:Saints Row Brewing\, 15 Fulks Corner Avenue\, Suite 101\, Gaithersburg\, MD\, 20877\, United States
CATEGORIES:Food Trucks
ATTACH;FMTTYPE=image/png:https://www.saintsrowbeer.com/wp-content/uploads/2025/01/Screenshot-2025-01-27-at-10.41.37 AM-e1738012022416.png
END:VEVENT
BEGIN:VEVENT
DTSTART;TZID=America/New_York:20250211T170000
DTEND;TZID=America/New_York:20250211T210000
DTSTAMP:20260422T190623
CREATED:20250127T211414Z
LAST-MODIFIED:20250127T211414Z
UID:540-1739293200-1739307600@www.saintsrowbeer.com
SUMMARY:Napa Grill Korean Mexican Food Truck
DESCRIPTION:
URL:https://www.saintsrowbeer.com/event/napa-grill-korean-mexican-food-truck-2/
LOCATION:Saints Row Brewing\, 15 Fulks Corner Avenue\, Suite 101\, Gaithersburg\, MD\, 20877\, United States
CATEGORIES:Food Trucks
ATTACH;FMTTYPE=image/png:https://www.saintsrowbeer.com/wp-content/uploads/2025/01/Screenshot-2025-01-27-at-10.13.16 AM-e1738012440367.png
END:VEVENT
BEGIN:VEVENT
DTSTART;TZID=America/New_York:20250208T130000
DTEND;TZID=America/New_York:20250208T200000
DTSTAMP:20260422T190623
CREATED:20250127T210715Z
LAST-MODIFIED:20250127T210715Z
UID:533-1739019600-1739044800@www.saintsrowbeer.com
SUMMARY:El Jefe Wood Fire Pizza
DESCRIPTION:Wood oven pizza made fresh onsite
URL:https://www.saintsrowbeer.com/event/el-jefe-wood-fire-pizza-2/
LOCATION:Saints Row Brewing\, 15 Fulks Corner Avenue\, Suite 101\, Gaithersburg\, MD\, 20877\, United States
CATEGORIES:Food Trucks
ATTACH;FMTTYPE=image/png:https://www.saintsrowbeer.com/wp-content/uploads/2025/01/Screenshot-2025-01-27-at-10.41.37 AM-e1738012022416.png
END:VEVENT
BEGIN:VEVENT
DTSTART;TZID=America/New_York:20250207T170000
DTEND;TZID=America/New_York:20250207T210000
DTSTAMP:20260422T190623
CREATED:20250127T204942Z
LAST-MODIFIED:20250127T204942Z
UID:523-1738947600-1738962000@www.saintsrowbeer.com
SUMMARY:AJ Fryers Food Truck
DESCRIPTION:American bar fare – burgers\, dogs\, chicken tenders and more!
URL:https://www.saintsrowbeer.com/event/aj-fryers-food-truck/
LOCATION:Saints Row Brewing\, 15 Fulks Corner Avenue\, Suite 101\, Gaithersburg\, MD\, 20877\, United States
CATEGORIES:Food Trucks
END:VEVENT
BEGIN:VEVENT
DTSTART;TZID=America/New_York:20250204T170000
DTEND;TZID=America/New_York:20250204T210000
DTSTAMP:20260422T190623
CREATED:20250127T155004Z
LAST-MODIFIED:20250127T155004Z
UID:482-1738688400-1738702800@www.saintsrowbeer.com
SUMMARY:Napa Grill Korean Mexican Food Truck
DESCRIPTION:Korean Mexican street food\, including bowls\, tacos\, burritos\, and quesadillas
URL:https://www.saintsrowbeer.com/event/napa-grill-korean-mexican-food-truck/
LOCATION:Saints Row Brewing\, 15 Fulks Corner Avenue\, Suite 101\, Gaithersburg\, MD\, 20877\, United States
CATEGORIES:Food Trucks
ATTACH;FMTTYPE=image/png:https://www.saintsrowbeer.com/wp-content/uploads/2025/01/Screenshot-2025-01-27-at-10.13.16 AM-e1738012440367.png
END:VEVENT
BEGIN:VEVENT
DTSTART;TZID=America/New_York:20250201T130000
DTEND;TZID=America/New_York:20250201T200000
DTSTAMP:20260422T190623
CREATED:20250127T154438Z
LAST-MODIFIED:20250127T154438Z
UID:478-1738414800-1738440000@www.saintsrowbeer.com
SUMMARY:El Jefe Wood Fire Pizza
DESCRIPTION:Wood fired pizza made fresh onsite
URL:https://www.saintsrowbeer.com/event/el-jefe-wood-fire-pizza/
LOCATION:Saints Row Brewing\, 15 Fulks Corner Avenue\, Suite 101\, Gaithersburg\, MD\, 20877\, United States
CATEGORIES:Food Trucks
ATTACH;FMTTYPE=image/png:https://www.saintsrowbeer.com/wp-content/uploads/2025/01/Screenshot-2025-01-27-at-10.41.37 AM-e1738012022416.png
END:VEVENT
BEGIN:VEVENT
DTSTART;TZID=America/New_York:20250131T170000
DTEND;TZID=America/New_York:20250131T200000
DTSTAMP:20260422T190623
CREATED:20250127T154300Z
LAST-MODIFIED:20250127T154501Z
UID:475-1738342800-1738353600@www.saintsrowbeer.com
SUMMARY:Square Taco Food Truck
DESCRIPTION:Authentic street tacos
URL:https://www.saintsrowbeer.com/event/square-taco-food-truck/
LOCATION:Saints Row Brewing\, 15 Fulks Corner Avenue\, Suite 101\, Gaithersburg\, MD\, 20877\, United States
CATEGORIES:Food Trucks
ATTACH;FMTTYPE=image/png:https://www.saintsrowbeer.com/wp-content/uploads/2025/01/Screenshot-2025-01-27-at-10.41.09 AM-e1737992543292.png
END:VEVENT
BEGIN:VEVENT
DTSTART;TZID=America/New_York:20250129T170000
DTEND;TZID=America/New_York:20250129T200000
DTSTAMP:20260422T190623
CREATED:20250127T153831Z
LAST-MODIFIED:20250127T154313Z
UID:470-1738170000-1738180800@www.saintsrowbeer.com
SUMMARY:Beltway Bistro Food Truck
DESCRIPTION:Bar food sides\, soups\, sandwhiches\, and more!
URL:https://www.saintsrowbeer.com/event/beltway-bistro-food-truck/
LOCATION:Saints Row Brewing\, 15 Fulks Corner Avenue\, Suite 101\, Gaithersburg\, MD\, 20877\, United States
CATEGORIES:Food Trucks
ATTACH;FMTTYPE=image/png:https://www.saintsrowbeer.com/wp-content/uploads/2025/01/Screenshot-2025-01-27-at-10.37.16 AM-e1737992262445.png
END:VEVENT
BEGIN:VEVENT
DTSTART;TZID=America/New_York:20250128T170000
DTEND;TZID=America/New_York:20250128T210000
DTSTAMP:20260422T190623
CREATED:20250127T151815Z
LAST-MODIFIED:20250127T155021Z
UID:450-1738083600-1738098000@www.saintsrowbeer.com
SUMMARY:Napa Grill Korean Mexican Food Truck
DESCRIPTION:Korean Mexican street food\, including bowls\, tacos\, burritos\, and quesadillas
URL:https://www.saintsrowbeer.com/event/napa-grill-korean-mexican-street-food/
LOCATION:Saints Row Brewing\, 15 Fulks Corner Avenue\, Suite 101\, Gaithersburg\, MD\, 20877\, United States
CATEGORIES:Food Trucks
ATTACH;FMTTYPE=image/png:https://www.saintsrowbeer.com/wp-content/uploads/2025/01/Screenshot-2025-01-27-at-10.13.16 AM-e1738012440367.png
END:VEVENT
END:VCALENDAR