BEGIN:VCALENDAR
VERSION:2.0
PRODID:-//Saints Row Craft Collective - ECPv6.10.3//NONSGML v1.0//EN
CALSCALE:GREGORIAN
METHOD:PUBLISH
X-WR-CALNAME:Saints Row Craft Collective
X-ORIGINAL-URL:https://www.saintsrowbeer.com
X-WR-CALDESC:Events for Saints Row Craft Collective
REFRESH-INTERVAL;VALUE=DURATION:PT1H
X-Robots-Tag:noindex
X-PUBLISHED-TTL:PT1H
BEGIN:VTIMEZONE
TZID:America/New_York
BEGIN:DAYLIGHT
TZOFFSETFROM:-0500
TZOFFSETTO:-0400
TZNAME:EDT
DTSTART:20270314T070000
END:DAYLIGHT
BEGIN:STANDARD
TZOFFSETFROM:-0400
TZOFFSETTO:-0500
TZNAME:EST
DTSTART:20271107T060000
END:STANDARD
END:VTIMEZONE
BEGIN:VEVENT
DTSTART;VALUE=DATE:20270601
DTEND;VALUE=DATE:20270602
DTSTAMP:20260422T062704
CREATED:20250603T142540Z
LAST-MODIFIED:20251119T161700Z
UID:1597-1811808000-1811894399@www.saintsrowbeer.com
SUMMARY:Napa Mexican & Korean Grill Food Truck
DESCRIPTION:
URL:https://www.saintsrowbeer.com/event/napa-mexican-korean-grill-food-truck-120/
CATEGORIES:Food Trucks
END:VEVENT
BEGIN:VEVENT
DTSTART;VALUE=DATE:20270605
DTEND;VALUE=DATE:20270606
DTSTAMP:20260422T062704
CREATED:20251119T161700Z
LAST-MODIFIED:20251119T161700Z
UID:2200-1812153600-1812239999@www.saintsrowbeer.com
SUMMARY:El Jefe Woodfired Pizza
DESCRIPTION:
URL:https://www.saintsrowbeer.com/event/el-jefe-woodfired-pizza-120/
CATEGORIES:Food Trucks
END:VEVENT
BEGIN:VEVENT
DTSTART;VALUE=DATE:20270608
DTEND;VALUE=DATE:20270609
DTSTAMP:20260422T062704
CREATED:20251119T161700Z
LAST-MODIFIED:20251119T161700Z
UID:2201-1812412800-1812499199@www.saintsrowbeer.com
SUMMARY:Napa Mexican & Korean Grill Food Truck
DESCRIPTION:
URL:https://www.saintsrowbeer.com/event/napa-mexican-korean-grill-food-truck-121/
CATEGORIES:Food Trucks
END:VEVENT
BEGIN:VEVENT
DTSTART;VALUE=DATE:20270611
DTEND;VALUE=DATE:20270612
DTSTAMP:20260422T062704
CREATED:20251119T161700Z
LAST-MODIFIED:20251119T161700Z
UID:2202-1812672000-1812758399@www.saintsrowbeer.com
SUMMARY:Aj's Fryer Food Truck
DESCRIPTION:
URL:https://www.saintsrowbeer.com/event/ajs-fryer-food-truck-60/
CATEGORIES:Food Trucks
END:VEVENT
BEGIN:VEVENT
DTSTART;VALUE=DATE:20270612
DTEND;VALUE=DATE:20270613
DTSTAMP:20260422T062704
CREATED:20251119T161700Z
LAST-MODIFIED:20251119T161700Z
UID:2203-1812758400-1812844799@www.saintsrowbeer.com
SUMMARY:El Jefe Woodfired Pizza
DESCRIPTION:
URL:https://www.saintsrowbeer.com/event/el-jefe-woodfired-pizza-121/
CATEGORIES:Food Trucks
END:VEVENT
BEGIN:VEVENT
DTSTART;VALUE=DATE:20270615
DTEND;VALUE=DATE:20270616
DTSTAMP:20260422T062704
CREATED:20251119T161700Z
LAST-MODIFIED:20251119T161700Z
UID:2204-1813017600-1813103999@www.saintsrowbeer.com
SUMMARY:Napa Mexican & Korean Grill Food Truck
DESCRIPTION:
URL:https://www.saintsrowbeer.com/event/napa-mexican-korean-grill-food-truck-122/
CATEGORIES:Food Trucks
END:VEVENT
BEGIN:VEVENT
DTSTART;VALUE=DATE:20270619
DTEND;VALUE=DATE:20270620
DTSTAMP:20260422T062704
CREATED:20251119T161701Z
LAST-MODIFIED:20251119T161701Z
UID:2205-1813363200-1813449599@www.saintsrowbeer.com
SUMMARY:El Jefe Woodfired Pizza
DESCRIPTION:
URL:https://www.saintsrowbeer.com/event/el-jefe-woodfired-pizza-122/
CATEGORIES:Food Trucks
END:VEVENT
BEGIN:VEVENT
DTSTART;VALUE=DATE:20270622
DTEND;VALUE=DATE:20270623
DTSTAMP:20260422T062704
CREATED:20251119T161701Z
LAST-MODIFIED:20251119T161701Z
UID:2206-1813622400-1813708799@www.saintsrowbeer.com
SUMMARY:Napa Mexican & Korean Grill Food Truck
DESCRIPTION:
URL:https://www.saintsrowbeer.com/event/napa-mexican-korean-grill-food-truck-123/
CATEGORIES:Food Trucks
END:VEVENT
BEGIN:VEVENT
DTSTART;VALUE=DATE:20270625
DTEND;VALUE=DATE:20270626
DTSTAMP:20260422T062704
CREATED:20251119T161701Z
LAST-MODIFIED:20251119T161701Z
UID:2207-1813881600-1813967999@www.saintsrowbeer.com
SUMMARY:Aj's Fryer Food Truck
DESCRIPTION:
URL:https://www.saintsrowbeer.com/event/ajs-fryer-food-truck-61/
CATEGORIES:Food Trucks
END:VEVENT
BEGIN:VEVENT
DTSTART;VALUE=DATE:20270626
DTEND;VALUE=DATE:20270627
DTSTAMP:20260422T062704
CREATED:20251119T161701Z
LAST-MODIFIED:20251119T161701Z
UID:2208-1813968000-1814054399@www.saintsrowbeer.com
SUMMARY:El Jefe Woodfired Pizza
DESCRIPTION:
URL:https://www.saintsrowbeer.com/event/el-jefe-woodfired-pizza-123/
CATEGORIES:Food Trucks
END:VEVENT
BEGIN:VEVENT
DTSTART;VALUE=DATE:20270629
DTEND;VALUE=DATE:20270630
DTSTAMP:20260422T062704
CREATED:20251119T161701Z
LAST-MODIFIED:20251119T161701Z
UID:2209-1814227200-1814313599@www.saintsrowbeer.com
SUMMARY:Napa Mexican & Korean Grill Food Truck
DESCRIPTION:
URL:https://www.saintsrowbeer.com/event/napa-mexican-korean-grill-food-truck-124/
CATEGORIES:Food Trucks
END:VEVENT
BEGIN:VEVENT
DTSTART;VALUE=DATE:20270703
DTEND;VALUE=DATE:20270704
DTSTAMP:20260422T062704
CREATED:20251119T161701Z
LAST-MODIFIED:20251119T161701Z
UID:2210-1814572800-1814659199@www.saintsrowbeer.com
SUMMARY:El Jefe Woodfired Pizza
DESCRIPTION:
URL:https://www.saintsrowbeer.com/event/el-jefe-woodfired-pizza-124/
CATEGORIES:Food Trucks
END:VEVENT
BEGIN:VEVENT
DTSTART;VALUE=DATE:20270706
DTEND;VALUE=DATE:20270707
DTSTAMP:20260422T062704
CREATED:20251119T161701Z
LAST-MODIFIED:20251119T161701Z
UID:2211-1814832000-1814918399@www.saintsrowbeer.com
SUMMARY:Napa Mexican & Korean Grill Food Truck
DESCRIPTION:
URL:https://www.saintsrowbeer.com/event/napa-mexican-korean-grill-food-truck-125/
CATEGORIES:Food Trucks
END:VEVENT
BEGIN:VEVENT
DTSTART;VALUE=DATE:20270709
DTEND;VALUE=DATE:20270710
DTSTAMP:20260422T062704
CREATED:20251119T161701Z
LAST-MODIFIED:20251119T161701Z
UID:2213-1815091200-1815177599@www.saintsrowbeer.com
SUMMARY:Aj's Fryer Food Truck
DESCRIPTION:
URL:https://www.saintsrowbeer.com/event/ajs-fryer-food-truck-62/
CATEGORIES:Food Trucks
END:VEVENT
BEGIN:VEVENT
DTSTART;VALUE=DATE:20270710
DTEND;VALUE=DATE:20270711
DTSTAMP:20260422T062704
CREATED:20251119T161701Z
LAST-MODIFIED:20251119T161701Z
UID:2212-1815177600-1815263999@www.saintsrowbeer.com
SUMMARY:El Jefe Woodfired Pizza
DESCRIPTION:
URL:https://www.saintsrowbeer.com/event/el-jefe-woodfired-pizza-125/
CATEGORIES:Food Trucks
END:VEVENT
BEGIN:VEVENT
DTSTART;VALUE=DATE:20270713
DTEND;VALUE=DATE:20270714
DTSTAMP:20260422T062704
CREATED:20251119T161701Z
LAST-MODIFIED:20251119T161701Z
UID:2214-1815436800-1815523199@www.saintsrowbeer.com
SUMMARY:Napa Mexican & Korean Grill Food Truck
DESCRIPTION:
URL:https://www.saintsrowbeer.com/event/napa-mexican-korean-grill-food-truck-126/
CATEGORIES:Food Trucks
END:VEVENT
BEGIN:VEVENT
DTSTART;VALUE=DATE:20270717
DTEND;VALUE=DATE:20270718
DTSTAMP:20260422T062704
CREATED:20251119T161701Z
LAST-MODIFIED:20251119T161701Z
UID:2215-1815782400-1815868799@www.saintsrowbeer.com
SUMMARY:El Jefe Woodfired Pizza
DESCRIPTION:
URL:https://www.saintsrowbeer.com/event/el-jefe-woodfired-pizza-126/
CATEGORIES:Food Trucks
END:VEVENT
BEGIN:VEVENT
DTSTART;VALUE=DATE:20270720
DTEND;VALUE=DATE:20270721
DTSTAMP:20260422T062704
CREATED:20251119T161701Z
LAST-MODIFIED:20251119T161701Z
UID:2216-1816041600-1816127999@www.saintsrowbeer.com
SUMMARY:Napa Mexican & Korean Grill Food Truck
DESCRIPTION:
URL:https://www.saintsrowbeer.com/event/napa-mexican-korean-grill-food-truck-127/
CATEGORIES:Food Trucks
END:VEVENT
BEGIN:VEVENT
DTSTART;VALUE=DATE:20270723
DTEND;VALUE=DATE:20270724
DTSTAMP:20260422T062704
CREATED:20251119T161702Z
LAST-MODIFIED:20251119T161702Z
UID:2217-1816300800-1816387199@www.saintsrowbeer.com
SUMMARY:Aj's Fryer Food Truck
DESCRIPTION:
URL:https://www.saintsrowbeer.com/event/ajs-fryer-food-truck-63/
CATEGORIES:Food Trucks
END:VEVENT
BEGIN:VEVENT
DTSTART;VALUE=DATE:20270724
DTEND;VALUE=DATE:20270725
DTSTAMP:20260422T062704
CREATED:20251119T161702Z
LAST-MODIFIED:20251119T161702Z
UID:2218-1816387200-1816473599@www.saintsrowbeer.com
SUMMARY:El Jefe Woodfired Pizza
DESCRIPTION:
URL:https://www.saintsrowbeer.com/event/el-jefe-woodfired-pizza-127/
CATEGORIES:Food Trucks
END:VEVENT
BEGIN:VEVENT
DTSTART;VALUE=DATE:20270727
DTEND;VALUE=DATE:20270728
DTSTAMP:20260422T062704
CREATED:20251119T161702Z
LAST-MODIFIED:20251119T161702Z
UID:2219-1816646400-1816732799@www.saintsrowbeer.com
SUMMARY:Napa Mexican & Korean Grill Food Truck
DESCRIPTION:
URL:https://www.saintsrowbeer.com/event/napa-mexican-korean-grill-food-truck-128/
CATEGORIES:Food Trucks
END:VEVENT
BEGIN:VEVENT
DTSTART;VALUE=DATE:20270731
DTEND;VALUE=DATE:20270801
DTSTAMP:20260422T062704
CREATED:20251119T161702Z
LAST-MODIFIED:20251119T161702Z
UID:2220-1816992000-1817078399@www.saintsrowbeer.com
SUMMARY:El Jefe Woodfired Pizza
DESCRIPTION:
URL:https://www.saintsrowbeer.com/event/el-jefe-woodfired-pizza-128/
CATEGORIES:Food Trucks
END:VEVENT
BEGIN:VEVENT
DTSTART;VALUE=DATE:20270803
DTEND;VALUE=DATE:20270804
DTSTAMP:20260422T062704
CREATED:20251119T161702Z
LAST-MODIFIED:20251119T161702Z
UID:2221-1817251200-1817337599@www.saintsrowbeer.com
SUMMARY:Napa Mexican & Korean Grill Food Truck
DESCRIPTION:
URL:https://www.saintsrowbeer.com/event/napa-mexican-korean-grill-food-truck-129/
CATEGORIES:Food Trucks
END:VEVENT
BEGIN:VEVENT
DTSTART;VALUE=DATE:20270806
DTEND;VALUE=DATE:20270807
DTSTAMP:20260422T062704
CREATED:20251119T161702Z
LAST-MODIFIED:20251119T161702Z
UID:2223-1817510400-1817596799@www.saintsrowbeer.com
SUMMARY:Aj's Fryer Food Truck
DESCRIPTION:
URL:https://www.saintsrowbeer.com/event/ajs-fryer-food-truck-64/
CATEGORIES:Food Trucks
END:VEVENT
BEGIN:VEVENT
DTSTART;VALUE=DATE:20270807
DTEND;VALUE=DATE:20270808
DTSTAMP:20260422T062704
CREATED:20251119T161702Z
LAST-MODIFIED:20251119T161702Z
UID:2222-1817596800-1817683199@www.saintsrowbeer.com
SUMMARY:El Jefe Woodfired Pizza
DESCRIPTION:
URL:https://www.saintsrowbeer.com/event/el-jefe-woodfired-pizza-129/
CATEGORIES:Food Trucks
END:VEVENT
BEGIN:VEVENT
DTSTART;VALUE=DATE:20270810
DTEND;VALUE=DATE:20270811
DTSTAMP:20260422T062704
CREATED:20251119T161702Z
LAST-MODIFIED:20251119T161702Z
UID:2224-1817856000-1817942399@www.saintsrowbeer.com
SUMMARY:Napa Mexican & Korean Grill Food Truck
DESCRIPTION:
URL:https://www.saintsrowbeer.com/event/napa-mexican-korean-grill-food-truck-130/
CATEGORIES:Food Trucks
END:VEVENT
BEGIN:VEVENT
DTSTART;VALUE=DATE:20270814
DTEND;VALUE=DATE:20270815
DTSTAMP:20260422T062704
CREATED:20251119T161702Z
LAST-MODIFIED:20251119T161702Z
UID:2225-1818201600-1818287999@www.saintsrowbeer.com
SUMMARY:El Jefe Woodfired Pizza
DESCRIPTION:
URL:https://www.saintsrowbeer.com/event/el-jefe-woodfired-pizza-130/
CATEGORIES:Food Trucks
END:VEVENT
BEGIN:VEVENT
DTSTART;VALUE=DATE:20270817
DTEND;VALUE=DATE:20270818
DTSTAMP:20260422T062704
CREATED:20251119T161702Z
LAST-MODIFIED:20251119T161702Z
UID:2226-1818460800-1818547199@www.saintsrowbeer.com
SUMMARY:Napa Mexican & Korean Grill Food Truck
DESCRIPTION:
URL:https://www.saintsrowbeer.com/event/napa-mexican-korean-grill-food-truck-131/
CATEGORIES:Food Trucks
END:VEVENT
BEGIN:VEVENT
DTSTART;VALUE=DATE:20270820
DTEND;VALUE=DATE:20270821
DTSTAMP:20260422T062704
CREATED:20251119T161703Z
LAST-MODIFIED:20251119T161703Z
UID:2228-1818720000-1818806399@www.saintsrowbeer.com
SUMMARY:Aj's Fryer Food Truck
DESCRIPTION:
URL:https://www.saintsrowbeer.com/event/ajs-fryer-food-truck-65/
CATEGORIES:Food Trucks
END:VEVENT
BEGIN:VEVENT
DTSTART;VALUE=DATE:20270821
DTEND;VALUE=DATE:20270822
DTSTAMP:20260422T062704
CREATED:20251119T161702Z
LAST-MODIFIED:20251119T161702Z
UID:2227-1818806400-1818892799@www.saintsrowbeer.com
SUMMARY:El Jefe Woodfired Pizza
DESCRIPTION:
URL:https://www.saintsrowbeer.com/event/el-jefe-woodfired-pizza-131/
CATEGORIES:Food Trucks
END:VEVENT
END:VCALENDAR