BEGIN:VCALENDAR
VERSION:2.0
PRODID:-//Saints Row Craft Collective - ECPv6.10.3//NONSGML v1.0//EN
CALSCALE:GREGORIAN
METHOD:PUBLISH
X-WR-CALNAME:Saints Row Craft Collective
X-ORIGINAL-URL:https://www.saintsrowbeer.com
X-WR-CALDESC:Events for Saints Row Craft Collective
REFRESH-INTERVAL;VALUE=DURATION:PT1H
X-Robots-Tag:noindex
X-PUBLISHED-TTL:PT1H
BEGIN:VTIMEZONE
TZID:America/New_York
BEGIN:DAYLIGHT
TZOFFSETFROM:-0500
TZOFFSETTO:-0400
TZNAME:EDT
DTSTART:20250309T070000
END:DAYLIGHT
BEGIN:STANDARD
TZOFFSETFROM:-0400
TZOFFSETTO:-0500
TZNAME:EST
DTSTART:20251102T060000
END:STANDARD
END:VTIMEZONE
BEGIN:VEVENT
DTSTART;VALUE=DATE:20250613
DTEND;VALUE=DATE:20250614
DTSTAMP:20260422T095822
CREATED:20250325T133118Z
LAST-MODIFIED:20250603T142526Z
UID:654-1749772800-1749859199@www.saintsrowbeer.com
SUMMARY:Aj's Fryer Food Truck
DESCRIPTION:
URL:https://www.saintsrowbeer.com/event/ajs-fryer-food-truck-5/
CATEGORIES:Food Trucks
END:VEVENT
BEGIN:VEVENT
DTSTART;VALUE=DATE:20250611
DTEND;VALUE=DATE:20250612
DTSTAMP:20260422T095822
CREATED:20250603T142526Z
LAST-MODIFIED:20250603T142526Z
UID:1564-1749600000-1749686399@www.saintsrowbeer.com
SUMMARY:Beltway Bistro Food Truck
DESCRIPTION:
URL:https://www.saintsrowbeer.com/event/beltway-bistro-food-truck-6/
CATEGORIES:Food Trucks
END:VEVENT
BEGIN:VEVENT
DTSTART;VALUE=DATE:20250610
DTEND;VALUE=DATE:20250611
DTSTAMP:20260422T095822
CREATED:20250325T133118Z
LAST-MODIFIED:20250603T142526Z
UID:652-1749513600-1749599999@www.saintsrowbeer.com
SUMMARY:Napa Mexican & Korean Grill Food Truck
DESCRIPTION:
URL:https://www.saintsrowbeer.com/event/napa-mexican-korean-grill-food-truck-12/
CATEGORIES:Food Trucks
END:VEVENT
BEGIN:VEVENT
DTSTART;VALUE=DATE:20250607
DTEND;VALUE=DATE:20250608
DTSTAMP:20260422T095822
CREATED:20250325T133118Z
LAST-MODIFIED:20250603T142526Z
UID:651-1749254400-1749340799@www.saintsrowbeer.com
SUMMARY:El Jefe Woodfired Pizza
DESCRIPTION:
URL:https://www.saintsrowbeer.com/event/el-jefe-woodfired-pizza-11/
CATEGORIES:Food Trucks
END:VEVENT
BEGIN:VEVENT
DTSTART;VALUE=DATE:20250606
DTEND;VALUE=DATE:20250607
DTSTAMP:20260422T095822
CREATED:20250603T142526Z
LAST-MODIFIED:20250603T142526Z
UID:1563-1749168000-1749254399@www.saintsrowbeer.com
SUMMARY:Hijos del Maíz Food Stand
DESCRIPTION:
URL:https://www.saintsrowbeer.com/event/hijos-del-maiz-food-stand-5/
CATEGORIES:Food Trucks
END:VEVENT
BEGIN:VEVENT
DTSTART;VALUE=DATE:20250603
DTEND;VALUE=DATE:20250604
DTSTAMP:20260422T095822
CREATED:20250325T133118Z
LAST-MODIFIED:20250603T142526Z
UID:650-1748908800-1748995199@www.saintsrowbeer.com
SUMMARY:Napa Mexican & Korean Grill Food Truck
DESCRIPTION:
URL:https://www.saintsrowbeer.com/event/napa-mexican-korean-grill-food-truck-11/
CATEGORIES:Food Trucks
END:VEVENT
BEGIN:VEVENT
DTSTART;VALUE=DATE:20250531
DTEND;VALUE=DATE:20250601
DTSTAMP:20260422T095822
CREATED:20250325T133118Z
LAST-MODIFIED:20250327T063759Z
UID:648-1748649600-1748735999@www.saintsrowbeer.com
SUMMARY:El Jefe Woodfired Pizza
DESCRIPTION:
URL:https://www.saintsrowbeer.com/event/el-jefe-woodfired-pizza-10/
CATEGORIES:Food Trucks
END:VEVENT
BEGIN:VEVENT
DTSTART;VALUE=DATE:20250530
DTEND;VALUE=DATE:20250531
DTSTAMP:20260422T095822
CREATED:20250325T133118Z
LAST-MODIFIED:20250327T063759Z
UID:649-1748563200-1748649599@www.saintsrowbeer.com
SUMMARY:Aj's Fryer Food Truck
DESCRIPTION:
URL:https://www.saintsrowbeer.com/event/ajs-fryer-food-truck-4/
CATEGORIES:Food Trucks
END:VEVENT
BEGIN:VEVENT
DTSTART;VALUE=DATE:20250527
DTEND;VALUE=DATE:20250528
DTSTAMP:20260422T095822
CREATED:20250325T133118Z
LAST-MODIFIED:20250327T063759Z
UID:647-1748304000-1748390399@www.saintsrowbeer.com
SUMMARY:Napa Mexican & Korean Grill Food Truck
DESCRIPTION:
URL:https://www.saintsrowbeer.com/event/napa-mexican-korean-grill-food-truck-10/
CATEGORIES:Food Trucks
END:VEVENT
BEGIN:VEVENT
DTSTART;VALUE=DATE:20250524
DTEND;VALUE=DATE:20250525
DTSTAMP:20260422T095822
CREATED:20250325T133118Z
LAST-MODIFIED:20250327T063758Z
UID:645-1748044800-1748131199@www.saintsrowbeer.com
SUMMARY:El Jefe Woodfired Pizza
DESCRIPTION:
URL:https://www.saintsrowbeer.com/event/el-jefe-woodfired-pizza-9/
CATEGORIES:Food Trucks
END:VEVENT
BEGIN:VEVENT
DTSTART;VALUE=DATE:20250523
DTEND;VALUE=DATE:20250524
DTSTAMP:20260422T095822
CREATED:20250325T133118Z
LAST-MODIFIED:20250327T063759Z
UID:646-1747958400-1748044799@www.saintsrowbeer.com
SUMMARY:Kuk's Tribute Food Truck
DESCRIPTION:
URL:https://www.saintsrowbeer.com/event/kuks-tribute-food-truck-3/
CATEGORIES:Food Trucks
END:VEVENT
BEGIN:VEVENT
DTSTART;VALUE=DATE:20250520
DTEND;VALUE=DATE:20250521
DTSTAMP:20260422T095822
CREATED:20250325T133118Z
LAST-MODIFIED:20250327T063758Z
UID:644-1747699200-1747785599@www.saintsrowbeer.com
SUMMARY:Napa Mexican & Korean Grill Food Truck
DESCRIPTION:
URL:https://www.saintsrowbeer.com/event/napa-mexican-korean-grill-food-truck-9/
CATEGORIES:Food Trucks
END:VEVENT
BEGIN:VEVENT
DTSTART;VALUE=DATE:20250517
DTEND;VALUE=DATE:20250518
DTSTAMP:20260422T095822
CREATED:20250325T133118Z
LAST-MODIFIED:20250327T063758Z
UID:643-1747440000-1747526399@www.saintsrowbeer.com
SUMMARY:El Jefe Woodfired Pizza
DESCRIPTION:
URL:https://www.saintsrowbeer.com/event/el-jefe-woodfired-pizza-8/
CATEGORIES:Food Trucks
END:VEVENT
BEGIN:VEVENT
DTSTART;VALUE=DATE:20250516
DTEND;VALUE=DATE:20250517
DTSTAMP:20260422T095822
CREATED:20250325T133118Z
LAST-MODIFIED:20250327T063758Z
UID:642-1747353600-1747439999@www.saintsrowbeer.com
SUMMARY:Aj's Fryer Food Truck
DESCRIPTION:
URL:https://www.saintsrowbeer.com/event/ajs-fryer-food-truck-3/
CATEGORIES:Food Trucks
END:VEVENT
BEGIN:VEVENT
DTSTART;VALUE=DATE:20250513
DTEND;VALUE=DATE:20250514
DTSTAMP:20260422T095822
CREATED:20250325T133118Z
LAST-MODIFIED:20250327T063758Z
UID:641-1747094400-1747180799@www.saintsrowbeer.com
SUMMARY:Napa Mexican & Korean Grill Food Truck
DESCRIPTION:
URL:https://www.saintsrowbeer.com/event/napa-mexican-korean-grill-food-truck-8/
CATEGORIES:Food Trucks
END:VEVENT
BEGIN:VEVENT
DTSTART;VALUE=DATE:20250510
DTEND;VALUE=DATE:20250511
DTSTAMP:20260422T095822
CREATED:20250325T133118Z
LAST-MODIFIED:20250327T063758Z
UID:640-1746835200-1746921599@www.saintsrowbeer.com
SUMMARY:El Jefe Woodfired Pizza
DESCRIPTION:
URL:https://www.saintsrowbeer.com/event/el-jefe-woodfired-pizza-7/
CATEGORIES:Food Trucks
END:VEVENT
BEGIN:VEVENT
DTSTART;VALUE=DATE:20250509
DTEND;VALUE=DATE:20250510
DTSTAMP:20260422T095822
CREATED:20250325T133118Z
LAST-MODIFIED:20250327T063758Z
UID:639-1746748800-1746835199@www.saintsrowbeer.com
SUMMARY:Underground Pizza Company Food Truck
DESCRIPTION:
URL:https://www.saintsrowbeer.com/event/underground-pizza-company-food-truck-2/
CATEGORIES:Food Trucks
END:VEVENT
BEGIN:VEVENT
DTSTART;VALUE=DATE:20250506
DTEND;VALUE=DATE:20250507
DTSTAMP:20260422T095822
CREATED:20250325T133118Z
LAST-MODIFIED:20250327T063758Z
UID:638-1746489600-1746575999@www.saintsrowbeer.com
SUMMARY:Napa Mexican & Korean Grill Food Truck
DESCRIPTION:
URL:https://www.saintsrowbeer.com/event/napa-mexican-korean-grill-food-truck-7/
CATEGORIES:Food Trucks
END:VEVENT
BEGIN:VEVENT
DTSTART;VALUE=DATE:20250503
DTEND;VALUE=DATE:20250504
DTSTAMP:20260422T095822
CREATED:20250325T133117Z
LAST-MODIFIED:20250327T063758Z
UID:636-1746230400-1746316799@www.saintsrowbeer.com
SUMMARY:El Jefe Woodfired Pizza
DESCRIPTION:
URL:https://www.saintsrowbeer.com/event/el-jefe-woodfired-pizza-6/
CATEGORIES:Food Trucks
END:VEVENT
BEGIN:VEVENT
DTSTART;VALUE=DATE:20250502
DTEND;VALUE=DATE:20250503
DTSTAMP:20260422T095822
CREATED:20250325T133117Z
LAST-MODIFIED:20250327T063758Z
UID:637-1746144000-1746230399@www.saintsrowbeer.com
SUMMARY:Aj's Fryer Food Truck
DESCRIPTION:
URL:https://www.saintsrowbeer.com/event/ajs-fryer-food-truck-2/
CATEGORIES:Food Trucks
END:VEVENT
BEGIN:VEVENT
DTSTART;VALUE=DATE:20250430
DTEND;VALUE=DATE:20250501
DTSTAMP:20260422T095822
CREATED:20250325T133117Z
LAST-MODIFIED:20250327T063758Z
UID:634-1745971200-1746057599@www.saintsrowbeer.com
SUMMARY:Hijos del Maíz Food Stand
DESCRIPTION:
URL:https://www.saintsrowbeer.com/event/hijos-del-maiz-food-stand-4/
CATEGORIES:Food Trucks
END:VEVENT
BEGIN:VEVENT
DTSTART;VALUE=DATE:20250429
DTEND;VALUE=DATE:20250430
DTSTAMP:20260422T095822
CREATED:20250325T133117Z
LAST-MODIFIED:20250327T063758Z
UID:635-1745884800-1745971199@www.saintsrowbeer.com
SUMMARY:Napa Mexican & Korean Grill Food Truck
DESCRIPTION:
URL:https://www.saintsrowbeer.com/event/napa-mexican-korean-grill-food-truck-6/
CATEGORIES:Food Trucks
END:VEVENT
BEGIN:VEVENT
DTSTART;VALUE=DATE:20250426
DTEND;VALUE=DATE:20250427
DTSTAMP:20260422T095822
CREATED:20250325T133117Z
LAST-MODIFIED:20250327T063758Z
UID:633-1745625600-1745711999@www.saintsrowbeer.com
SUMMARY:Origins BBQ
DESCRIPTION:
URL:https://www.saintsrowbeer.com/event/origins-bbq/
CATEGORIES:Food Trucks
END:VEVENT
BEGIN:VEVENT
DTSTART;VALUE=DATE:20250426
DTEND;VALUE=DATE:20250427
DTSTAMP:20260422T095822
CREATED:20250325T133117Z
LAST-MODIFIED:20250327T063758Z
UID:630-1745625600-1745711999@www.saintsrowbeer.com
SUMMARY:Criosho Argentine Grill
DESCRIPTION:
URL:https://www.saintsrowbeer.com/event/criosho-argentine-grill/
CATEGORIES:Food Trucks
END:VEVENT
BEGIN:VEVENT
DTSTART;VALUE=DATE:20250426
DTEND;VALUE=DATE:20250427
DTSTAMP:20260422T095822
CREATED:20250325T133117Z
LAST-MODIFIED:20250327T063758Z
UID:631-1745625600-1745711999@www.saintsrowbeer.com
SUMMARY:El Jefe Woodfired Pizza
DESCRIPTION:
URL:https://www.saintsrowbeer.com/event/el-jefe-woodfired-pizza-5/
CATEGORIES:Food Trucks
END:VEVENT
BEGIN:VEVENT
DTSTART;VALUE=DATE:20250425
DTEND;VALUE=DATE:20250426
DTSTAMP:20260422T095822
CREATED:20250325T133117Z
LAST-MODIFIED:20250327T063758Z
UID:632-1745539200-1745625599@www.saintsrowbeer.com
SUMMARY:Kuk's Tribute Food Truck
DESCRIPTION:
URL:https://www.saintsrowbeer.com/event/kuks-tribute-food-truck-2/
CATEGORIES:Food Trucks
END:VEVENT
BEGIN:VEVENT
DTSTART;VALUE=DATE:20250424
DTEND;VALUE=DATE:20250425
DTSTAMP:20260422T095822
CREATED:20250325T133117Z
LAST-MODIFIED:20250327T063758Z
UID:628-1745452800-1745539199@www.saintsrowbeer.com
SUMMARY:MC Rolling Raptor Food Truck
DESCRIPTION:
URL:https://www.saintsrowbeer.com/event/mc-rolling-raptor-food-truck/
CATEGORIES:Food Trucks
END:VEVENT
BEGIN:VEVENT
DTSTART;VALUE=DATE:20250423
DTEND;VALUE=DATE:20250424
DTSTAMP:20260422T095822
CREATED:20250325T133117Z
LAST-MODIFIED:20250327T063758Z
UID:629-1745366400-1745452799@www.saintsrowbeer.com
SUMMARY:Hijos del Maíz Food Stand
DESCRIPTION:
URL:https://www.saintsrowbeer.com/event/hijos-del-maiz-food-stand-3/
CATEGORIES:Food Trucks
END:VEVENT
BEGIN:VEVENT
DTSTART;VALUE=DATE:20250422
DTEND;VALUE=DATE:20250423
DTSTAMP:20260422T095822
CREATED:20250325T133117Z
LAST-MODIFIED:20250327T063758Z
UID:627-1745280000-1745366399@www.saintsrowbeer.com
SUMMARY:Napa Mexican & Korean Grill Food Truck
DESCRIPTION:
URL:https://www.saintsrowbeer.com/event/napa-mexican-korean-grill-food-truck-5/
CATEGORIES:Food Trucks
END:VEVENT
BEGIN:VEVENT
DTSTART;VALUE=DATE:20250419
DTEND;VALUE=DATE:20250420
DTSTAMP:20260422T095822
CREATED:20250325T133117Z
LAST-MODIFIED:20250327T063758Z
UID:625-1745020800-1745107199@www.saintsrowbeer.com
SUMMARY:El Jefe Woodfired Pizza
DESCRIPTION:
URL:https://www.saintsrowbeer.com/event/el-jefe-woodfired-pizza-4/
CATEGORIES:Food Trucks
END:VEVENT
END:VCALENDAR