BEGIN:VCALENDAR
VERSION:2.0
PRODID:-//Saints Row Craft Collective - ECPv6.10.3//NONSGML v1.0//EN
CALSCALE:GREGORIAN
METHOD:PUBLISH
X-WR-CALNAME:Saints Row Craft Collective
X-ORIGINAL-URL:https://www.saintsrowbeer.com
X-WR-CALDESC:Events for Saints Row Craft Collective
REFRESH-INTERVAL;VALUE=DURATION:PT1H
X-Robots-Tag:noindex
X-PUBLISHED-TTL:PT1H
BEGIN:VTIMEZONE
TZID:America/New_York
BEGIN:DAYLIGHT
TZOFFSETFROM:-0500
TZOFFSETTO:-0400
TZNAME:EDT
DTSTART:20260308T070000
END:DAYLIGHT
BEGIN:STANDARD
TZOFFSETFROM:-0400
TZOFFSETTO:-0500
TZNAME:EST
DTSTART:20261101T060000
END:STANDARD
END:VTIMEZONE
BEGIN:VEVENT
DTSTART;VALUE=DATE:20260421
DTEND;VALUE=DATE:20260422
DTSTAMP:20260419T092630
CREATED:20250325T133125Z
LAST-MODIFIED:20251119T161653Z
UID:772-1776729600-1776815999@www.saintsrowbeer.com
SUMMARY:Napa Mexican & Korean Grill Food Truck
DESCRIPTION:
URL:https://www.saintsrowbeer.com/event/napa-mexican-korean-grill-food-truck-57/
CATEGORIES:Food Trucks
END:VEVENT
BEGIN:VEVENT
DTSTART;VALUE=DATE:20260425
DTEND;VALUE=DATE:20260426
DTSTAMP:20260419T092630
CREATED:20250325T133125Z
LAST-MODIFIED:20251119T161653Z
UID:773-1777075200-1777161599@www.saintsrowbeer.com
SUMMARY:El Jefe Woodfired Pizza
DESCRIPTION:
URL:https://www.saintsrowbeer.com/event/el-jefe-woodfired-pizza-57/
CATEGORIES:Food Trucks
END:VEVENT
BEGIN:VEVENT
DTSTART;VALUE=DATE:20260428
DTEND;VALUE=DATE:20260429
DTSTAMP:20260419T092630
CREATED:20250325T133125Z
LAST-MODIFIED:20251119T161653Z
UID:774-1777334400-1777420799@www.saintsrowbeer.com
SUMMARY:Napa Mexican & Korean Grill Food Truck
DESCRIPTION:
URL:https://www.saintsrowbeer.com/event/napa-mexican-korean-grill-food-truck-58/
CATEGORIES:Food Trucks
END:VEVENT
END:VCALENDAR