BEGIN:VCALENDAR
VERSION:2.0
PRODID:-//Saints Row Craft Collective - ECPv6.10.3//NONSGML v1.0//EN
CALSCALE:GREGORIAN
METHOD:PUBLISH
X-WR-CALNAME:Saints Row Craft Collective
X-ORIGINAL-URL:https://www.saintsrowbeer.com
X-WR-CALDESC:Events for Saints Row Craft Collective
REFRESH-INTERVAL;VALUE=DURATION:PT1H
X-Robots-Tag:noindex
X-PUBLISHED-TTL:PT1H
BEGIN:VTIMEZONE
TZID:America/New_York
BEGIN:DAYLIGHT
TZOFFSETFROM:-0500
TZOFFSETTO:-0400
TZNAME:EDT
DTSTART:20260308T070000
END:DAYLIGHT
BEGIN:STANDARD
TZOFFSETFROM:-0400
TZOFFSETTO:-0500
TZNAME:EST
DTSTART:20261101T060000
END:STANDARD
END:VTIMEZONE
BEGIN:VEVENT
DTSTART;VALUE=DATE:20261103
DTEND;VALUE=DATE:20261104
DTSTAMP:20260419T210620
CREATED:20250325T133131Z
LAST-MODIFIED:20251119T161656Z
UID:842-1793664000-1793750399@www.saintsrowbeer.com
SUMMARY:Napa Mexican & Korean Grill Food Truck
DESCRIPTION:
URL:https://www.saintsrowbeer.com/event/napa-mexican-korean-grill-food-truck-85/
CATEGORIES:Food Trucks
END:VEVENT
BEGIN:VEVENT
DTSTART;VALUE=DATE:20261107
DTEND;VALUE=DATE:20261108
DTSTAMP:20260419T210620
CREATED:20250325T133131Z
LAST-MODIFIED:20251119T161656Z
UID:843-1794009600-1794095999@www.saintsrowbeer.com
SUMMARY:El Jefe Woodfired Pizza
DESCRIPTION:
URL:https://www.saintsrowbeer.com/event/el-jefe-woodfired-pizza-85/
CATEGORIES:Food Trucks
END:VEVENT
BEGIN:VEVENT
DTSTART;VALUE=DATE:20261110
DTEND;VALUE=DATE:20261111
DTSTAMP:20260419T210620
CREATED:20250325T133131Z
LAST-MODIFIED:20251119T161656Z
UID:844-1794268800-1794355199@www.saintsrowbeer.com
SUMMARY:Napa Mexican & Korean Grill Food Truck
DESCRIPTION:
URL:https://www.saintsrowbeer.com/event/napa-mexican-korean-grill-food-truck-86/
CATEGORIES:Food Trucks
END:VEVENT
BEGIN:VEVENT
DTSTART;VALUE=DATE:20261113
DTEND;VALUE=DATE:20261114
DTSTAMP:20260419T210620
CREATED:20250325T133131Z
LAST-MODIFIED:20251119T161656Z
UID:845-1794528000-1794614399@www.saintsrowbeer.com
SUMMARY:Aj's Fryer Food Truck
DESCRIPTION:
URL:https://www.saintsrowbeer.com/event/ajs-fryer-food-truck-42/
CATEGORIES:Food Trucks
END:VEVENT
BEGIN:VEVENT
DTSTART;VALUE=DATE:20261114
DTEND;VALUE=DATE:20261115
DTSTAMP:20260419T210620
CREATED:20250325T133131Z
LAST-MODIFIED:20251119T161656Z
UID:846-1794614400-1794700799@www.saintsrowbeer.com
SUMMARY:El Jefe Woodfired Pizza
DESCRIPTION:
URL:https://www.saintsrowbeer.com/event/el-jefe-woodfired-pizza-86/
CATEGORIES:Food Trucks
END:VEVENT
BEGIN:VEVENT
DTSTART;VALUE=DATE:20261117
DTEND;VALUE=DATE:20261118
DTSTAMP:20260419T210620
CREATED:20250325T133131Z
LAST-MODIFIED:20251119T161657Z
UID:847-1794873600-1794959999@www.saintsrowbeer.com
SUMMARY:Napa Mexican & Korean Grill Food Truck
DESCRIPTION:
URL:https://www.saintsrowbeer.com/event/napa-mexican-korean-grill-food-truck-87/
CATEGORIES:Food Trucks
END:VEVENT
BEGIN:VEVENT
DTSTART;VALUE=DATE:20261121
DTEND;VALUE=DATE:20261122
DTSTAMP:20260419T210620
CREATED:20250325T133131Z
LAST-MODIFIED:20251119T161657Z
UID:848-1795219200-1795305599@www.saintsrowbeer.com
SUMMARY:El Jefe Woodfired Pizza
DESCRIPTION:
URL:https://www.saintsrowbeer.com/event/el-jefe-woodfired-pizza-87/
CATEGORIES:Food Trucks
END:VEVENT
BEGIN:VEVENT
DTSTART;VALUE=DATE:20261124
DTEND;VALUE=DATE:20261125
DTSTAMP:20260419T210620
CREATED:20250325T133131Z
LAST-MODIFIED:20251119T161657Z
UID:849-1795478400-1795564799@www.saintsrowbeer.com
SUMMARY:Napa Mexican & Korean Grill Food Truck
DESCRIPTION:
URL:https://www.saintsrowbeer.com/event/napa-mexican-korean-grill-food-truck-88/
CATEGORIES:Food Trucks
END:VEVENT
BEGIN:VEVENT
DTSTART;VALUE=DATE:20261127
DTEND;VALUE=DATE:20261128
DTSTAMP:20260419T210620
CREATED:20250325T133131Z
LAST-MODIFIED:20251119T161657Z
UID:851-1795737600-1795823999@www.saintsrowbeer.com
SUMMARY:Aj's Fryer Food Truck
DESCRIPTION:
URL:https://www.saintsrowbeer.com/event/ajs-fryer-food-truck-43/
CATEGORIES:Food Trucks
END:VEVENT
BEGIN:VEVENT
DTSTART;VALUE=DATE:20261128
DTEND;VALUE=DATE:20261129
DTSTAMP:20260419T210620
CREATED:20250325T133131Z
LAST-MODIFIED:20251119T161657Z
UID:850-1795824000-1795910399@www.saintsrowbeer.com
SUMMARY:El Jefe Woodfired Pizza
DESCRIPTION:
URL:https://www.saintsrowbeer.com/event/el-jefe-woodfired-pizza-88/
CATEGORIES:Food Trucks
END:VEVENT
END:VCALENDAR