BEGIN:VCALENDAR
VERSION:2.0
PRODID:-//Saints Row Craft Collective - ECPv6.10.3//NONSGML v1.0//EN
CALSCALE:GREGORIAN
METHOD:PUBLISH
X-ORIGINAL-URL:https://www.saintsrowbeer.com
X-WR-CALDESC:Events for Saints Row Craft Collective
REFRESH-INTERVAL;VALUE=DURATION:PT1H
X-Robots-Tag:noindex
X-PUBLISHED-TTL:PT1H
BEGIN:VTIMEZONE
TZID:America/New_York
BEGIN:DAYLIGHT
TZOFFSETFROM:-0500
TZOFFSETTO:-0400
TZNAME:EDT
DTSTART:20260308T070000
END:DAYLIGHT
BEGIN:STANDARD
TZOFFSETFROM:-0400
TZOFFSETTO:-0500
TZNAME:EST
DTSTART:20261101T060000
END:STANDARD
END:VTIMEZONE
BEGIN:VEVENT
DTSTART;VALUE=DATE:20261002
DTEND;VALUE=DATE:20261003
DTSTAMP:20260419T193629
CREATED:20250325T133130Z
LAST-MODIFIED:20251119T161656Z
UID:830-1790899200-1790985599@www.saintsrowbeer.com
SUMMARY:Aj's Fryer Food Truck
DESCRIPTION:
URL:https://www.saintsrowbeer.com/event/ajs-fryer-food-truck-39/
CATEGORIES:Food Trucks
END:VEVENT
BEGIN:VEVENT
DTSTART;VALUE=DATE:20261003
DTEND;VALUE=DATE:20261004
DTSTAMP:20260419T193629
CREATED:20250325T133130Z
LAST-MODIFIED:20251119T161656Z
UID:831-1790985600-1791071999@www.saintsrowbeer.com
SUMMARY:El Jefe Woodfired Pizza
DESCRIPTION:
URL:https://www.saintsrowbeer.com/event/el-jefe-woodfired-pizza-80/
CATEGORIES:Food Trucks
END:VEVENT
BEGIN:VEVENT
DTSTART;VALUE=DATE:20261006
DTEND;VALUE=DATE:20261007
DTSTAMP:20260419T193629
CREATED:20250325T133130Z
LAST-MODIFIED:20251119T161656Z
UID:832-1791244800-1791331199@www.saintsrowbeer.com
SUMMARY:Napa Mexican & Korean Grill Food Truck
DESCRIPTION:
URL:https://www.saintsrowbeer.com/event/napa-mexican-korean-grill-food-truck-81/
CATEGORIES:Food Trucks
END:VEVENT
BEGIN:VEVENT
DTSTART;VALUE=DATE:20261010
DTEND;VALUE=DATE:20261011
DTSTAMP:20260419T193629
CREATED:20250325T133130Z
LAST-MODIFIED:20251119T161656Z
UID:833-1791590400-1791676799@www.saintsrowbeer.com
SUMMARY:El Jefe Woodfired Pizza
DESCRIPTION:
URL:https://www.saintsrowbeer.com/event/el-jefe-woodfired-pizza-81/
CATEGORIES:Food Trucks
END:VEVENT
BEGIN:VEVENT
DTSTART;VALUE=DATE:20261013
DTEND;VALUE=DATE:20261014
DTSTAMP:20260419T193629
CREATED:20250325T133130Z
LAST-MODIFIED:20251119T161656Z
UID:834-1791849600-1791935999@www.saintsrowbeer.com
SUMMARY:Napa Mexican & Korean Grill Food Truck
DESCRIPTION:
URL:https://www.saintsrowbeer.com/event/napa-mexican-korean-grill-food-truck-82/
CATEGORIES:Food Trucks
END:VEVENT
BEGIN:VEVENT
DTSTART;VALUE=DATE:20261016
DTEND;VALUE=DATE:20261017
DTSTAMP:20260419T193629
CREATED:20250325T133130Z
LAST-MODIFIED:20251119T161656Z
UID:836-1792108800-1792195199@www.saintsrowbeer.com
SUMMARY:Aj's Fryer Food Truck
DESCRIPTION:
URL:https://www.saintsrowbeer.com/event/ajs-fryer-food-truck-40/
CATEGORIES:Food Trucks
END:VEVENT
BEGIN:VEVENT
DTSTART;VALUE=DATE:20261017
DTEND;VALUE=DATE:20261018
DTSTAMP:20260419T193629
CREATED:20250325T133130Z
LAST-MODIFIED:20251119T161656Z
UID:835-1792195200-1792281599@www.saintsrowbeer.com
SUMMARY:El Jefe Woodfired Pizza
DESCRIPTION:
URL:https://www.saintsrowbeer.com/event/el-jefe-woodfired-pizza-82/
CATEGORIES:Food Trucks
END:VEVENT
BEGIN:VEVENT
DTSTART;VALUE=DATE:20261020
DTEND;VALUE=DATE:20261021
DTSTAMP:20260419T193629
CREATED:20250325T133130Z
LAST-MODIFIED:20251119T161656Z
UID:837-1792454400-1792540799@www.saintsrowbeer.com
SUMMARY:Napa Mexican & Korean Grill Food Truck
DESCRIPTION:
URL:https://www.saintsrowbeer.com/event/napa-mexican-korean-grill-food-truck-83/
CATEGORIES:Food Trucks
END:VEVENT
BEGIN:VEVENT
DTSTART;VALUE=DATE:20261024
DTEND;VALUE=DATE:20261025
DTSTAMP:20260419T193629
CREATED:20250325T133130Z
LAST-MODIFIED:20251119T161656Z
UID:838-1792800000-1792886399@www.saintsrowbeer.com
SUMMARY:El Jefe Woodfired Pizza
DESCRIPTION:
URL:https://www.saintsrowbeer.com/event/el-jefe-woodfired-pizza-83/
CATEGORIES:Food Trucks
END:VEVENT
BEGIN:VEVENT
DTSTART;VALUE=DATE:20261027
DTEND;VALUE=DATE:20261028
DTSTAMP:20260419T193629
CREATED:20250325T133131Z
LAST-MODIFIED:20251119T161656Z
UID:839-1793059200-1793145599@www.saintsrowbeer.com
SUMMARY:Napa Mexican & Korean Grill Food Truck
DESCRIPTION:
URL:https://www.saintsrowbeer.com/event/napa-mexican-korean-grill-food-truck-84/
CATEGORIES:Food Trucks
END:VEVENT
BEGIN:VEVENT
DTSTART;VALUE=DATE:20261030
DTEND;VALUE=DATE:20261031
DTSTAMP:20260419T193629
CREATED:20250325T133131Z
LAST-MODIFIED:20251119T161656Z
UID:840-1793318400-1793404799@www.saintsrowbeer.com
SUMMARY:Aj's Fryer Food Truck
DESCRIPTION:
URL:https://www.saintsrowbeer.com/event/ajs-fryer-food-truck-41/
CATEGORIES:Food Trucks
END:VEVENT
BEGIN:VEVENT
DTSTART;VALUE=DATE:20261031
DTEND;VALUE=DATE:20261101
DTSTAMP:20260419T193629
CREATED:20250325T133131Z
LAST-MODIFIED:20251119T161656Z
UID:841-1793404800-1793491199@www.saintsrowbeer.com
SUMMARY:El Jefe Woodfired Pizza
DESCRIPTION:
URL:https://www.saintsrowbeer.com/event/el-jefe-woodfired-pizza-84/
CATEGORIES:Food Trucks
END:VEVENT
END:VCALENDAR